Workbook

Sheet Instrucciones
H5: .
H6: .
H7: .
B12: Instrucciones:
B13: Objeto: El presente documento consiste en una herramienta de trabajo (Hoja Macro de Trabajo - Diagnóstico de Gobernanza), en la cual se incluirán y consignarán todos los hallazgos que el Consultor Capacitador (CC) identifique como parte de la revisión de la información de la Organización cuya Gobernanza se evalúa. Asimismo, la herramienta permite al CC mostrar las conclusiones que va alcanzando luego de analizar y evaluar los hallazgos. La consolidación de estas conclusiones permitirá alcanzar los resultados del Diagnóstico. De esta forma, la herramienta sirve de instrumento de apoyo para aplicar de manera concreta los conceptos incluidos en los estándares de Gobernanza establecidos en el documento “Base teórica y Manual de Buenas Prácticas de Gobernanza”, así como la metodología establecida en el “Instrumento de Diagnóstico y Evaluación” . Cabe remarcar que la herramienta no debe ser entendida como un sustituto de los mencionados documentos, los cuales deben ser materia de consulta habitual para su correcta utilización.
B14: Estructura del documento: El documento contiene hojas separadas respecto del análisis formal o factual, sea el general o el complementario, de forma tal que el CC deba ir incorporando sus hallazgos en cada una de éstas, según corresponda. También se incluye una hoja de síntesis del análisis, en línea con lo establecido en la Subsección 1.3. del “Instrumento de Diagnóstico y Evaluación”. Esta reseña se sustenta en el número de componentes del estándar cumplidos por la Organización. Se incluye además una Hoja “Resultados del Diagnóstico”. En ella se muestra un puntaje de cumplimiento agregado para la Organización. Posteriormente dicho puntaje se muestra de manera desagregada por pilares y estándares, de forma tal que se aprecie de manera concreta las principales áreas de mejora presentes en la Organización. Estos puntajes son asignados en atención a los parámetros establecidos en la Sección IV del “Instrumento de Diagnóstico y Evaluación”. Estos parámetros se muestran además en la hoja “Puntajes por estándares”. Por último, para una mejor orientación del usuario, se adiciona una hoja con ejemplos para el llenado de la matriz. | H14: .
B15: Estructura de las hojas de hallazgos formal o factual: Estas hojas contienen las siguientes columnas:
B16: • En la primera y segunda columna se enuncian los estándares y los componentes de los mismos, tal como está consignado en el numeral 7.2. del documento "Base Teórica y Manual de Gobernanza". • En la tercera columna el CC expresa en detalle y objetivamente la referencia que utilizará para expresar la conclusión que alcanza en cada componente. Es esencial que la referencia que use sea capaz de ser verificada (trazabilidad) • En la cuarta columna (Conclusión de cumplimiento) el CC luego de analizar la evidencia colectada debe determinar si la organización "cumple" o "no cumple" el componente. • En la quinta columna (Comentarios) el CC puede incluir algunas apreciaciones en relación a lo que se podría mejorar (tipo recomendaciones) en la Gobernanza de la Organización, así como cualquier otro alcance que estime no esté recogido adecuadamente en las anteriores columnas. • La sexta columna (Comentarios/ Sugerencias del Consorcio ICC-MC&F) brinda un espacio en el cual el equipo técnico del consorcio pueda formular comentarios o sugerencias que permitan avalar la consistencia entre los hallazgos del CC, la evidencia que sustenta la generación de conclusiones y el marco lógico establecido en la "Base Teórica y Manual de Gobernanza" e "Instrumento de Diagnóstico y Evaluación".
B17: Síntesis de resultados: Las conclusiones que el CC establezca en las hojas de hallazgos son procesadas de manera automática y así se generan los siguientes formatos de síntesis:
B18: • Hoja “Síntesis del análisis”: se brinda una reseña del cumplimiento de los planos formal y factual para cada estándar. En línea con lo establecido en la Subsección 1.3. del “Instrumento de Diagnóstico y Evaluación”. Esta reseña se sustenta en el número de componentes del estándar cumplidos por la Organización. • Hoja “Resultados del Diagnóstico”: Se muestra el puntaje de cumplimiento agregado para la Organización. Posteriormente dicho puntaje se muestra de manera desagregada por pilares y estándares, de tal forma que se aprecien de manera sintética las principales áreas de mejora presentes en la Organización. Estos puntajes son asignados en atención a los parámetros establecidos en la Sección IV del “Instrumento de Diagnóstico y Evaluación”. Estos parámetros se muestran además en la hoja “Puntajes por estándares”.
B19: Finalmente, se incluye una hoja de "Ejemplos" que muestra distintos casos de como serían llenadas las hojas de hallazgos. tanto formales como factuales.
B20: Es fundamental que el CC complete la información requerida a continuación a fin de que se pueda autenticar la herramienta a cada usuario y caso particular.
H24: .
H25: .
H26: .
B28: Nombre del Consultor Capacitador (CC):
B30: Organización analizada:
B32: Fecha de inicio y fin del proceso de análisis:
B34: Fecha de corte de información:
H36: .
H37: .
H38: .
B41: Para cualquier consulta en relación a la presente herramienta por favor comuníquese a la dirección de correo: osalazar@mcifperu.com.

Sheet Instrucciones.
H3: .
H4: .
H5: .
B10: Instrucciones:
B11: Objeto: El presente documento consiste en una herramienta de trabajo (Hoja Macro de Trabajo - Diagnóstico de Desempeño Social), en la cual se incluirán y consignarán todos los hallazgos que el Consultor Capacitador (CC) identifique como parte de la revisión de la información de la Organización cuyo Desempeño Social se evalúa. Asimismo, la herramienta permite al CC mostrar las conclusiones que va alcanzando luego de analizar y evaluar los hallazgos. La consolidación de estas conclusiones permitirá alcanzar los resultados del Diagnóstico. De esta forma, la herramienta sirve de instrumento de apoyo para aplicar de manera concreta los conceptos incluidos en los estándares Sociales establecidos en el documento “Base teórica y Manual de Desempeño Social”, así como la metodología establecida en el “Instrumento de Diagnóstico y Evaluación” . Cabe remarcar que la herramienta no debe ser entendida como un sustituto de los mencionados documentos, los cuales deben ser materia de consulta habitual para su correcta utilización.
B12: Estructura del documento: El documento contiene hojas separadas respecto del análisis formal o factual, sea el general o el complementario, de forma tal que el CC deba ir incorporando sus hallazgos en cada una de éstas, según corresponda. También se incluye una hoja de síntesis del análisis, en línea con lo establecido en el “Instrumento de Diagnóstico y Evaluación”. Esta reseña se sustenta en el número de componentes del estándar cumplidos por la Organización. Se incluye además una Hoja “Resultados del Diagnóstico”. En ella se muestra un puntaje de cumplimiento agregado para la Organización. Posteriormente dicho puntaje se muestra de manera desagregada por pilares y estándares, de forma tal que se aprecie de manera concreta las principales áreas de mejora presentes en la Organización. Estos puntajes son asignados en atención a los parámetros establecidos en el “Instrumento de Diagnóstico y Evaluación”. Estos parámetros se muestran además en la hoja “Puntajes por estándares”. Por último, para una mejor orientación del usuario, se adiciona una hoja con ejemplos para el llenado de la matriz. | H12: .
B13: Estructura de las hojas de hallazgos formal o factual: Estas hojas contienen las siguientes columnas:
B14: • En la primera y segunda columna se enuncian los estándares y los componentes de los mismos, tal como está consignado en el documento "Base Teórica y Manual de Desempeño Social". • En la tercera columna el CC expresa en detalle y objetivamente la referencia que utilizará para expresar la conclusión que alcanza en cada componente. Es esencial que la referencia que use sea capaz de ser verificada (trazabilidad) • En la cuarta columna (Conclusión de cumplimiento) el CC luego de analizar la evidencia colectada debe determinar si la organización "cumple" o "no cumple" el componente. • En la quinta columna (Comentarios) el CC puede incluir algunas apreciaciones en relación a lo que se podría mejorar (tipo recomendaciones) en el Desempeño Social de la Organización, así como cualquier otro alcance que estime no esté recogido adecuadamente en las anteriores columnas.
B15: Síntesis de resultados: Las conclusiones que el CC establezca en las hojas de hallazgos son procesadas de manera automática y así se generan los siguientes formatos de síntesis:
B16: • Hoja “Síntesis del análisis”: se brinda una reseña del cumplimiento de los planos formal y factual para cada estándar. En línea con lo establecido en el documento “Instrumento de Diagnóstico y Evaluación”. Esta reseña se sustenta en el número de componentes del estándar cumplidos por la Organización. • Hoja “Resultados del Diagnóstico”: Se muestra el puntaje de cumplimiento agregado para la Organización. Posteriormente dicho puntaje se muestra de manera desagregada por pilares y estándares, de tal forma que se aprecien de manera sintética las principales áreas de mejora presentes en la Organización. Estos puntajes son asignados en atención a los parámetros establecidos en el “Instrumento de Diagnóstico y Evaluación”. Estos parámetros se muestran además en la hoja “Puntajes por estándares”.
B17: Finalmente, se incluye una hoja de "Ejemplos" que muestra distintos casos de como serían llenadas las hojas de hallazgos. tanto formales como factuales.
B18: Es fundamental que el CC complete la información requerida a continuación a fin de que se pueda autenticar la herramienta a cada usuario y caso particular.
H22: .
H23: .
H24: .
B26: Nombre del Consultor Capacitador (CC):
B28: Organización analizada:
B30: Fecha de inicio y fin del proceso de análisis:
B32: Fecha de corte de información:
H34: .
B37: Para cualquier consulta en relación a la presente herramienta por favor comuníquese a la dirección de correo: osalazar@mcifperu.com.

Sheet Formal General
B1: PILAR 7: DESEMPEÑO SOCIAL EN LA GOBERNANZA | C1: 7 ESTANDARES, 28 COMPONENTES
A3: ESTÁNDAR (Conforme lo definido en el documento: "Base Teórica y Manual de Desempeño Social") | B3: COMPONENTES (Conforme lo definido en la "Base Teórica y Manual de Desempeño Social") | C3: EVIDENCIA (Reseña de las evidencias que permiten verificar el cumplimiento de cada componente, en conformidad a los criterios establecidos en el "Instrumento de Diagnóstico y Evaluación") | D3: CONCLUSION DE CUMPLIMIENTO (El CC concluye si se cumple o no lo propuesto en el componente, marcar con "x" la opción que corresponda) | F3: COMENTARIOS (Apreciaciones del CC en relación a lo que se podría mejorar en la Organización) | G3: COMENTARIOS/ SUGERENCIAS DEL COMITE GIF (Comentarios y sugerencias que formulan los miembros del comité ESGIF en relación a la consistencia de los hallazgos del CC, la evidencia que sustenta la generación de conclusiones y la consistencia con el marco lógico de la "Base Teórica y Manual de Desempeño Social") | K3: CONCLUSIÓN DE CUMPLIMIENTO
D5: Si cumple | E5: No cumple
A6: 7.1 Objetivos de impacto social de la Organización | B6: 7.1.1 En su plan estratégico o similar cuenta con una "Estrategia especifica" de cómo sus productos, servicios y canales lograrán cumplir sus objetivos sociales: clientes objetivo excluidos, productos financieros de inclusión, objetivo de cambios en condiciones de vida de clientes. | D6: x | K6: =+IF(COUNTBLANK(D6:E6)=0,"",IF(E6="",IF(D6="","","Cumple"),"No Cumple")) -> Cumple | L6: =+IF(COUNTBLANK(D6:E6)=0,"",IF(E6="",IF(D6="","","Cumple"),"No Cumple")) -> Cumple
B7: 7.1.2 En su documento de constitución o plan estratégico estipula los objetivos sociales, metas e indicadores y su frecuencia de monitoreo. | D7: x
B8: 7.1.3 Cuenta con un sistema de gestión de la información para recopilar datos de desempeño social, de forma regular y continua, con procesos de verificación y análisis de resultados por segmentos de clientes. | D8: x
A9: 7.2 Competencias y compromiso de la directiva con el desempeño social | B9: 7.2.1 El órgano de direccion envia anualmente el informe de desempeño social de la Organización a la Asamblea en donde es aprobado. | E9: X | K9: =+IF(COUNTBLANK(D9:E9)=0,"",IF(E9="",IF(D9="","","Cumple"),"No Cumple")) -> No Cumple
B10: 7.2.2 Existen sistemas de control interno relacionados con los reportes sociales | D10: x | K10: =+IF(COUNTBLANK(D10:E10)=0,"",IF(E10="",IF(D10="","","Cumple"),"No Cumple")) -> Cumple
B11: 7.2.3 Retribución que abarque componentes fijos y variables, en función al desempeño y consecución de objetivos sociales | E11: x | K11: =+IF(COUNTBLANK(D11:E11)=0,"",IF(E11="",IF(D11="","","Cumple"),"No Cumple")) -> No Cumple
B12: 7.2.4 Existe un Responsable de Gestión de Desempeño Social o Comité designado que reporte al órgano de dirección. | D12: x | K12: =+IF(COUNTBLANK(D12:E12)=0,"",IF(E12="",IF(D12="","","Cumple"),"No Cumple")) -> Cumple
B13: 7.2.5 El órgano de dirección debe conocer sobre gestión de desempeño social, los objetivos sociales de la organización y monitorea su cumplimiento con indicadores sociales (Mandato en reglamento interno y creación de un comité referido al tema o incorporar esta labor en el reglamento de algun comité vigente) | E13: x | K13: =+IF(COUNTBLANK(D13:E13)=0,"",IF(E13="",IF(D13="","","Cumple"),"No Cumple")) -> No Cumple
B14: 7.2.6 Al menos 20% de los miembros del organo de dirección son mujeres (Mandato en reglamento interno o equivalente) | D14: x | K14: =+IF(COUNTBLANK(D14:E14)=0,"",IF(E14="",IF(D14="","","Cumple"),"No Cumple")) -> Cumple
B15: 7.2.7 Utiliza datos de desempeño social para el monitoreo de su plan estratégico (Mandato en reglamento interno o equivalente) | E15: x | K15: =+IF(COUNTBLANK(D15:E15)=0,"",IF(E15="",IF(D15="","","Cumple"),"No Cumple")) -> No Cumple
A16: 7.3 Gestión social y liderazgo de la Alta Gerencia | B16: 7.3.1 Liderazgo del Ejecutivo Principal en el proceso de asimilación de estándares de desempeño social. Debe estar estipulado en el manual de funciones, reglamento interno o equivalente. | E16: X | K16: =+IF(COUNTBLANK(D16:E16)=0,"",IF(E16="",IF(D16="","","Cumple"),"No Cumple")) -> No Cumple
B17: 7.3.2 La organización ofrece productos financieros o servicios para la inclusión de grupos excluidos (vulnerables)* | D17: x | K17: =+IF(COUNTBLANK(D17:E17)=0,"",IF(E17="",IF(D17="","","Cumple"),"No Cumple")) -> Cumple
B18: 7.3.3. Política de salud y seguridad ocupacional de los empleados | E18: x | K18: =+IF(COUNTBLANK(D18:E18)=0,"",IF(E18="",IF(D18="","","Cumple"),"No Cumple")) -> No Cumple
B19: 7.3.4 Personal es contratado con base en su compromiso con objetivos sociales. (Requisitos estipulados en manuales de funciones y medios de reclutamiento) | D19: x
B20: 7.3.5 La institución capacita a empleados sobre desempeño social | E20: X | K20: =+IF(COUNTBLANK(D20:E20)=0,"",IF(E20="",IF(D20="","","Cumple"),"No Cumple")) -> No Cumple
B21: 7.3.6 Evaluación anual del desempeño de Alta Gerencia incorpora cumplimiento de metas sociales | E21: X | K21: =+IF(COUNTBLANK(D21:E21)=0,"",IF(E21="",IF(D21="","","Cumple"),"No Cumple")) -> No Cumple
B22: 7.3.7 Conocer las necesidades y las preferencias de distintos tipos de clientes: realizar estudios de mercado, análizar información por segmentos de clientes, recopilar opiniones de clientes. Información recopilada por el comité responsable. | D22: x | K22: =+IF(COUNTBLANK(D22:E22)=0,"",IF(E22="",IF(D22="","","Cumple"),"No Cumple")) -> Cumple
B23: 7.3.8 Obtener información de satisfacción del cliente con productos, servicios y canales, para mejorarlos o adaptarlos. (Por lo menos una vez al año, debe estar estipulado en reglamento o politica interna) | E23: x | K23: =+IF(COUNTBLANK(D23:E23)=0,"",IF(E23="",IF(D23="","","Cumple"),"No Cumple")) -> No Cumple
A24: 7.4 Gestión de riesgos y cumplimiento social | B24: 7.4.1 Cuenta con una política de gestión de riesgos sociales, entre estos: perjuicio a clientes, reputación, perjuicio a la población con las actividades económicas financiadas a clientes y mecanismos de monitoreo de indicadores relacionados. | E24: X | K24: =+IF(COUNTBLANK(D24:E24)=0,"",IF(E24="",IF(D24="","","Cumple"),"No Cumple")) -> No Cumple
B25: 7.4.2 Contar con mecanismos para evitar o resolver denuncias o disputas en tribunales con su personal que implique algún tipo de penalidad | D25: x | K25: =+IF(COUNTBLANK(D25:E25)=0,"",IF(E25="",IF(D25="","","Cumple"),"No Cumple")) -> Cumple
B26: 7.4.3 Contar con mecanismos para gestionar o evitar disputas legales en tribunales por afectaciones a terceros que implique algún tipo de penalidad | E26: x | K26: =+IF(COUNTBLANK(D26:E26)=0,"",IF(E26="",IF(D26="","","Cumple"),"No Cumple")) -> No Cumple
A27: 7.5 Código de Ética con valores sociales | B27: 7.5.1 El Codigo de ética contempla el Trato justo y respetuoso, prevención de ventas y cobranzas agresivas hacia clientes. Ademas debe contemplar aspectos basicos de integridad del negocio. | D27: x | K27: =+IF(COUNTBLANK(D27:E27)=0,"",IF(E27="",IF(D27="","","Cumple"),"No Cumple")) -> Cumple
A28: 7.6 Equilibrio del crecimiento económico, social y ambiental | B28: 7.6.1 Cuenta con mecanismos para Establecer y monitorear las tasas de crecimiento que promueva tanto la rentabilidad financiera, como sus objetivos sociales | E28: X | K28: =+IF(COUNTBLANK(D28:E28)=0,"",IF(E28="",IF(D28="","","Cumple"),"No Cumple")) -> No Cumple
B29: 7.6.2 Cuenta con mecanismos para monitorear el crecimiento y ajustes de la capacidad instalada interna de la organización según sea necesario | D29: x | K29: =+IF(COUNTBLANK(D29:E29)=0,"",IF(E29="",IF(D29="","","Cumple"),"No Cumple")) -> Cumple
A30: 7.7 Equilibrio en políticas de precios, tarifas e indicadores financieros | B30: 7.7.1 Establece los precios (tasas de interés, tarifas) de manera responsable, acorde al desempeño del mercado, lo cual debe estar estipulado en la normativa interna | D30: x | K30: =+IF(COUNTBLANK(D30:E30)=0,"",IF(E30="",IF(D30="","","Cumple"),"No Cumple")) -> Cumple
B31: 7.7.2 El interés se calcula sobre saldos, con fechas exactas. Debe estar estipulado en una política de productos financieros o similar. | D31: x | K31: =+IF(COUNTBLANK(D31:E31)=0,"",IF(E31="",IF(D31="","","Cumple"),"No Cumple")) -> Cumple
B32: 7.7.3 Los índices financieros como gastos por castigo de cartera, gastos operativos, ROA, se encuentran en rangos normales o tienen una explicación lógica de algún incremento por fuera del desempeño de mercado. / Debe estar estipulado en Política Interna. | D32: x | K32: =+IF(COUNTBLANK(D32:E32)=0,"",IF(E32="",IF(D32="","","Cumple"),"No Cumple")) -> Cumple
B33: 7.7.4 Se tiene una política clara sobre los rendimientos o excedentes generados, y la manera como estos beneficios serán utilizados, en donde se incluya algún beneficio para sus clientes | E33: x | K33: =+IF(COUNTBLANK(D33:E33)=0,"",IF(E33="",IF(D33="","","Cumple"),"No Cumple")) -> No Cumple

Sheet Factual General
A3: ESTÁNDAR (Conforme lo definido en el documento: "Base Teórica y Manual de Desempeño Social") | B3: COMPONENTES (Conforme lo definido en la "Base Teórica y Manual de Desempeño Social") | C3: EVIDENCIA (Reseña de las evidencias que permiten verificar el cumplimiento de cada componente, en conformidad a los criterios establecidos en el "Instrumento de Diagnóstico y Evaluación") | D3: CONCLUSION DE CUMPLIMIENTO (El CC concluye si se cumple o no lo propuesto en el componente, marcar con "x" la opción que corresponda) | F3: COMENTARIOS (Apreciaciones del CC en relación a lo que se podría mejorar en la Organización) | G3: COMENTARIOS/ SUGERENCIAS DEL COMITE GIF (Comentarios y sugerencias que formulan los miembros del comité ESGIF en relación a la consistencia de los hallazgos del CC, la evidencia que sustenta la generación de conclusiones y la consistencia con el marco lógico de la "Base Teórica y Manual de Desempeño Social") | L3: =+'Formal General'!K3 -> CONCLUSIÓN DE CUMPLIMIENTO
D5: Si cumple | E5: No cumple
A6: 7.1 Objetivos de impacto social de la Organización | B6: 7.1.1 En su plan estratégico o similar cuenta con una "Estrategia especifica" de cómo sus productos, servicios y canales lograrán cumplir sus objetivos sociales: clientes objetivo excluidos, productos financieros de inclusión, objetivo de cambios en condiciones de vida de clientes. | D6: x | K6: =+IF(COUNTBLANK(D6:E6)=0,"",IF(E6="",IF(D6="","","Cumple"),"No Cumple")) -> Cumple | L6: =+IF(COUNTBLANK(D6:E6)=0,"",IF(E6="",IF(D6="","","Cumple"),"No Cumple")) -> Cumple
B7: 7.1.2 En su documento de constitución o plan estratégico estipula los objetivos sociales, metas e indicadores y su frecuencia de monitoreo. | D7: x
B8: 7.1.3 Cuenta con un sistema de gestión de la información para recopilar datos de desempeño social, de forma regular y continua, con procesos de verificación y análisis de resultados por segmentos de clientes. | D8: x
A9: 7.2 Competencias y compromiso de la directiva con el desempeño social | B9: 7.2.1 El órgano de direccion envia anualmente el informe de desempeño social de la Organización a la Asamblea en donde es aprobado. | E9: X | K9: =+IF(COUNTBLANK(D9:E9)=0,"",IF(E9="",IF(D9="","","Cumple"),"No Cumple")) -> No Cumple
B10: 7.2.2 Existen sistemas de control interno relacionados con los reportes sociales | D10: x | K10: =+IF(COUNTBLANK(D10:E10)=0,"",IF(E10="",IF(D10="","","Cumple"),"No Cumple")) -> Cumple
B11: 7.2.3 Retribución que abarque componentes fijos y variables, en función al desempeño y consecución de objetivos sociales | E11: x | K11: =+IF(COUNTBLANK(D11:E11)=0,"",IF(E11="",IF(D11="","","Cumple"),"No Cumple")) -> No Cumple
B12: 7.2.4 Existe un Responsable de Gestión de Desempeño Social o Comité designado que reporte al órgano de dirección. | D12: x | K12: =+IF(COUNTBLANK(D12:E12)=0,"",IF(E12="",IF(D12="","","Cumple"),"No Cumple")) -> Cumple
B13: 7.2.5 El órgano de dirección debe conocer sobre gestión de desempeño social, los objetivos sociales de la organización y monitorea su cumplimiento con indicadores sociales (Mandato en reglamento interno y creación de un comité referido al tema o incorporar esta labor en el reglamento de algun comité vigente) | E13: x | K13: =+IF(COUNTBLANK(D13:E13)=0,"",IF(E13="",IF(D13="","","Cumple"),"No Cumple")) -> No Cumple
B14: 7.2.6 Al menos 20% de los miembros del organo de dirección son mujeres (Mandato en reglamento interno o equivalente) | D14: x | K14: =+IF(COUNTBLANK(D14:E14)=0,"",IF(E14="",IF(D14="","","Cumple"),"No Cumple")) -> Cumple
B15: 7.2.7 Utiliza datos de desempeño social para el monitoreo de su plan estratégico (Mandato en reglamento interno o equivalente) | E15: x | K15: =+IF(COUNTBLANK(D15:E15)=0,"",IF(E15="",IF(D15="","","Cumple"),"No Cumple")) -> No Cumple
A16: 7.3 Gestión social y liderazgo de la Alta Gerencia | B16: 7.3.1 Liderazgo del Ejecutivo Principal en el proceso de asimilación de estándares de desempeño social. Debe estar estipulado en el manual de funciones, reglamento interno o equivalente. | E16: X | K16: =+IF(COUNTBLANK(D16:E16)=0,"",IF(E16="",IF(D16="","","Cumple"),"No Cumple")) -> No Cumple
B17: 7.3.2 La organización ofrece productos financieros o servicios para la inclusión de grupos excluidos (vulnerables)* | D17: x | K17: =+IF(COUNTBLANK(D17:E17)=0,"",IF(E17="",IF(D17="","","Cumple"),"No Cumple")) -> Cumple
B18: 7.3.3. Política de salud y seguridad ocupacional de los empleados | E18: x | K18: =+IF(COUNTBLANK(D18:E18)=0,"",IF(E18="",IF(D18="","","Cumple"),"No Cumple")) -> No Cumple
B19: 7.3.4 Personal es contratado con base en su compromiso con objetivos sociales. (Requisitos estipulados en manuales de funciones y medios de reclutamiento) | D19: x
B20: 7.3.5 La institución capacita a empleados sobre desempeño social | E20: X | K20: =+IF(COUNTBLANK(D20:E20)=0,"",IF(E20="",IF(D20="","","Cumple"),"No Cumple")) -> No Cumple
B21: 7.3.6 Evaluación anual del desempeño de Alta Gerencia incorpora cumplimiento de metas sociales | E21: X | K21: =+IF(COUNTBLANK(D21:E21)=0,"",IF(E21="",IF(D21="","","Cumple"),"No Cumple")) -> No Cumple
B22: 7.3.7 Conocer las necesidades y las preferencias de distintos tipos de clientes: realizar estudios de mercado, análizar información por segmentos de clientes, recopilar opiniones de clientes. Información recopilada por el comité responsable. | D22: x | K22: =+IF(COUNTBLANK(D22:E22)=0,"",IF(E22="",IF(D22="","","Cumple"),"No Cumple")) -> Cumple
B23: 7.3.8 Obtener información de satisfacción del cliente con productos, servicios y canales, para mejorarlos o adaptarlos. (Por lo menos una vez al año, debe estar estipulado en reglamento o politica interna) | E23: x | K23: =+IF(COUNTBLANK(D23:E23)=0,"",IF(E23="",IF(D23="","","Cumple"),"No Cumple")) -> No Cumple
A24: 7.4 Gestión de riesgos y cumplimiento social | B24: 7.4.1 Cuenta con una política de gestión de riesgos sociales, entre estos: perjuicio a clientes, reputación, perjuicio a la población con las actividades económicas financiadas a clientes y mecanismos de monitoreo de indicadores relacionados. | E24: X | K24: =+IF(COUNTBLANK(D24:E24)=0,"",IF(E24="",IF(D24="","","Cumple"),"No Cumple")) -> No Cumple
B25: 7.4.2 Contar con mecanismos para evitar o resolver denuncias o disputas en tribunales con su personal que implique algún tipo de penalidad | D25: x | K25: =+IF(COUNTBLANK(D25:E25)=0,"",IF(E25="",IF(D25="","","Cumple"),"No Cumple")) -> Cumple
B26: 7.4.3 Contar con mecanismos para gestionar o evitar disputas legales en tribunales por afectaciones a terceros que implique algún tipo de penalidad | E26: x | K26: =+IF(COUNTBLANK(D26:E26)=0,"",IF(E26="",IF(D26="","","Cumple"),"No Cumple")) -> No Cumple
A27: 7.5 Código de Ética con valores sociales | B27: 7.5.1 El Codigo de ética contempla el Trato justo y respetuoso, prevención de ventas y cobranzas agresivas hacia clientes. Ademas debe contemplar aspectos basicos de integridad del negocio. | D27: x | K27: =+IF(COUNTBLANK(D27:E27)=0,"",IF(E27="",IF(D27="","","Cumple"),"No Cumple")) -> Cumple
A28: 7.6 Equilibrio del crecimiento económico, social y ambiental | B28: 7.6.1 Cuenta con mecanismos para Establecer y monitorear las tasas de crecimiento que promueva tanto la rentabilidad financiera, como sus objetivos sociales | E28: X | K28: =+IF(COUNTBLANK(D28:E28)=0,"",IF(E28="",IF(D28="","","Cumple"),"No Cumple")) -> No Cumple
B29: 7.6.2 Cuenta con mecanismos para monitorear el crecimiento y ajustes de la capacidad instalada interna de la organización según sea necesario | D29: x | K29: =+IF(COUNTBLANK(D29:E29)=0,"",IF(E29="",IF(D29="","","Cumple"),"No Cumple")) -> Cumple
A30: 7.7 Equilibrio en políticas de precios, tarifas e indicadores financieros | B30: 7.7.1 Establece los precios (tasas de interés, tarifas) de manera responsable, acorde al desempeño del mercado, lo cual debe estar estipulado en la normativa interna | D30: x | K30: =+IF(COUNTBLANK(D30:E30)=0,"",IF(E30="",IF(D30="","","Cumple"),"No Cumple")) -> Cumple
B31: 7.7.2 El interés se calcula sobre saldos, con fechas exactas. Debe estar estipulado en una política de productos financieros o similar. | D31: x | K31: =+IF(COUNTBLANK(D31:E31)=0,"",IF(E31="",IF(D31="","","Cumple"),"No Cumple")) -> Cumple
B32: 7.7.3 Los índices financieros como gastos por castigo de cartera, gastos operativos, ROA, se encuentran en rangos normales o tienen una explicación lógica de algún incremento por fuera del desempeño de mercado. / Debe estar estipulado en Política Interna. | D32: x | K32: =+IF(COUNTBLANK(D32:E32)=0,"",IF(E32="",IF(D32="","","Cumple"),"No Cumple")) -> Cumple
B33: 7.7.4 Se tiene una política clara sobre los rendimientos o excedentes generados, y la manera como estos beneficios serán utilizados, en donde se incluya algún beneficio para sus clientes | E33: x | K33: =+IF(COUNTBLANK(D33:E33)=0,"",IF(E33="",IF(D33="","","Cumple"),"No Cumple")) -> No Cumple

Sheet Síntesis del análisis
L5: EVIDENCIA FACTUAL/APLICACIÓN
L6: Nula | M6: Débil | N6: Parcial menor | O6: Parcial mayor | P6: Completa
B7: ESTÁNDARES GENERALES | C7: EVIDENCIA FORMAL/DOCUMENTAL | D7: EVIDENCIA FACTUAL/APLICACIÓN | H7: Formal | I7: Factual | K7: Formal
B8: 7.1 Objetivos de impacto social de la Organización | C8: =IF(COUNTBLANK('Formal General'!D6:D8)>0,"No cumple","Cumple") -> Cumple | D8: =IF(COUNTBLANK('Factual General'!D6:D8)=1,"Parcial mayor",(IF(COUNTBLANK('Factual General'!D6:D8)=2,"Parcial menor",(IF(COUNTBLANK('Factual General'!D6:D8)=3,"Nula","Completa"))))) -> Completa | H8: =IF(C8="Cumple",K8,0) -> 2 | I8: =IF(D8=$L$6,L8,IF(D8=$M$6,M8,IF(D8=$N$6,N8,IF(D8=$O$6,O8,IF(D8=$P$6,P8,"Revisar"))))) -> 2 | K8: 2 | L8: 0 | M8: 0 | N8: 0.66 | O8: 1.33 | P8: 2 | Q8: 3
B9: 7.2 Competencias y compromiso de la directiva con el desempeño social | C9: =IF(COUNTBLANK('Formal General'!D9:D15)>0,"No cumple","Cumple") -> No cumple | D9: =IF(COUNTBLANK('Factual General'!D9:D15)=1,"Parcial mayor",(IF(COUNTBLANK('Factual General'!D9:D15)=2,"Parcial mayor",(IF(COUNTBLANK('Factual General'!D9:D15)=3,"Parcial menor",(IF(COUNTBLANK('Factual General'!D9:D15)=4,"Parcial menor",(IF(COUNTBLANK('Factual General'!D9:D15)=5,"Débil",(IF(COUNTBLANK('Factual General'!D9:D15)=6,"Débil",(IF(COUNTBLANK('Factual General'!D9:D15)=7,"Nula","Completa"))))))))))))) -> Parcial menor | H9: =IF(C9="Cumple",K9,0) -> 0 | I9: =IF(D9=$L$6,L9,IF(D9=$M$6,M9,IF(D9=$N$6,N9,IF(D9=$O$6,O9,IF(D9=$P$6,P9,"Revisar"))))) -> 0.5 | K9: 1 | L9: 0 | M9: 0.25 | N9: 0.5 | O9: 0.75 | P9: 1 | Q9: 7
B10: 7.3 Gestión social y liderazgo de la Alta Gerencia | C10: =IF(COUNTBLANK('Formal General'!D16:D23)>0,"No cumple","Cumple") -> No cumple | D10: =IF(COUNTBLANK('Factual General'!D16:D23)=1,"Parcial mayor",(IF(COUNTBLANK('Factual General'!D16:D23)=2,"Parcial mayor",(IF(COUNTBLANK('Factual General'!D16:D23)=3,"Parcial mayor",(IF(COUNTBLANK('Factual General'!D16:D23)=4,"Parcial menor",(IF(COUNTBLANK('Factual General'!D16:D23)=5,"Parcial menor",(IF(COUNTBLANK('Factual General'!D16:D23)=6,"Débil",(IF(COUNTBLANK('Factual General'!D16:D23)=7,"Débil",(IF(COUNTBLANK('Factual General'!D16:D23)=8,"Nula","Completa"))))))))))))))) -> Parcial menor | H10: =IF(C10="Cumple",K10,0) -> 0 | I10: =IF(D10=$L$6,L10,IF(D10=$M$6,M10,IF(D10=$N$6,N10,IF(D10=$O$6,O10,IF(D10=$P$6,P10,"Revisar"))))) -> 0.5 | K10: 1 | L10: 0 | M10: 0.25 | N10: 0.5 | O10: 0.75 | P10: 1 | Q10: 8
B11: 7.4 Gestión de riesgos y cumplimiento social | C11: =IF(COUNTBLANK('Formal General'!D24:D26)>0,"No cumple","Cumple") -> No cumple | D11: =IF(COUNTBLANK('Factual General'!D24:D26)=1,"Parcial mayor",(IF(COUNTBLANK('Factual General'!D24:D26)=2,"Parcial menor",(IF(COUNTBLANK('Factual General'!D24:D26)=3,"Nula","Completa"))))) -> Parcial menor | H11: =IF(C11="Cumple",K11,0) -> 0 | I11: =IF(D11=$L$6,L11,IF(D11=$M$6,M11,IF(D11=$N$6,N11,IF(D11=$O$6,O11,IF(D11=$P$6,P11,"Revisar"))))) -> 0.33 | K11: 1 | L11: 0 | M11: 0 | N11: 0.33 | O11: 0.67 | P11: 1 | Q11: 3
B12: 7.5 Código de Ética con valores sociales | C12: =IF(COUNTBLANK('Formal General'!D27)>0,"No cumple","Cumple") -> Cumple | D12: =IF(COUNTBLANK('Factual General'!D27)>0,"Nula","Completa") -> Completa | H12: =IF(C12="Cumple",K12,0) -> 1 | I12: =IF(D12=$L$6,L12,IF(D12=$M$6,M12,IF(D12=$N$6,N12,IF(D12=$O$6,O12,IF(D12=$P$6,P12,"Revisar"))))) -> 1 | K12: 1 | L12: 0 | M12: 0 | N12: 0 | O12: 0 | P12: 1 | Q12: 1
B13: 7.6 Equilibrio del crecimiento económico, social y ambiental | C13: =IF(COUNTBLANK('Formal General'!D28:D29)>0,"No cumple","Cumple") -> No cumple | D13: =IF(COUNTBLANK('Factual General'!D28:D29)=1,"Parcial mayor",(IF(COUNTBLANK('Factual General'!D28:D29)=2,"Nula","Completa"))) -> Parcial mayor | H13: =IF(C13="Cumple",K13,0) -> 0 | I13: =IF(D13=$L$6,L13,IF(D13=$M$6,M13,IF(D13=$N$6,N13,IF(D13=$O$6,O13,IF(D13=$P$6,P13,"Revisar"))))) -> 0.5 | K13: 1 | L13: 0 | M13: 0 | N13: 0 | O13: 0.5 | P13: 1 | Q13: 2
B14: 7.7 Equilibrio en políticas de precios, tarifas e indicadores financieros | C14: =IF(COUNTBLANK('Formal General'!D30:D33)>0,"No cumple","Cumple") -> No cumple | D14: =IF(COUNTBLANK('Factual General'!D30:D33)=1,"Parcial mayor",(IF(COUNTBLANK('Factual General'!D30:D33)=2,"Parcial menor",(IF(COUNTBLANK('Factual General'!D30:D33)=3,"Débil",(IF(COUNTBLANK('Factual General'!D30:D33)=4,"Nula","Completa"))))))) -> Parcial mayor | H14: =IF(C14="Cumple",K14,0) -> 0 | I14: =IF(D14=$L$6,L14,IF(D14=$M$6,M14,IF(D14=$N$6,N14,IF(D14=$O$6,O14,IF(D14=$P$6,P14,"Revisar"))))) -> 0.75 | K14: 1 | L14: 0 | M14: 0.25 | N14: 0.5 | O14: 0.75 | P14: 1 | Q14: 4
Q16: =SUM(Q8:Q14) -> 28
D23: =+IF(COUNTBLANK('Factual General'!$L$122:$L$128)>0,"",IF(COUNTIF('Factual General'!$L$122:$L$128,'Síntesis del análisis'!$H$6)=7,'Síntesis del análisis'!$M$6,IF(COUNTIF('Factual General'!$L$122:$L$128,'Síntesis del análisis'!$H$6)>4,'Síntesis del análisis'!$L$6,IF(COUNTIF('Factual General'!$L$122:$L$128,'Síntesis del análisis'!$H$6)>2,'Síntesis del análisis'!K6,IF(COUNTIF('Factual General'!$L$122:$L$128,'Síntesis del análisis'!$H$6)>0,'Síntesis del análisis'!$J$6,'Síntesis del análisis'!$I$6)))))

Sheet Resultados del Diagnóstico
B4: Cumplimiento total | C4: =+IFERROR(SUM('Síntesis del análisis'!H8:I14)*100/(SUM('Síntesis del análisis'!K8:K14)+SUM('Síntesis del análisis'!P8:P14)),0) -> 53.625
B7: Cumplimiento por pilar
C8: Formal | D8: Factual | E8: Total
B9: 7.1 Objetivos de impacto social de la Organización | C9: =+IFERROR('Síntesis del análisis'!H8/2*100,0) -> 100 | D9: =+IFERROR('Síntesis del análisis'!I8/2*100,0) -> 100 | E9: =IFERROR(AVERAGE(C9:D9),"") -> 100
B10: 7.2 Competencias y compromiso de la directiva con el desempeño social | C10: =+IFERROR('Síntesis del análisis'!H9*100,0) -> 0 | D10: =+IFERROR('Síntesis del análisis'!I9*100,0) -> 50 | E10: =IFERROR(AVERAGE(C10:D10),"") -> 25
B11: 7.3 Gestión social y liderazgo de la Alta Gerencia | C11: =+IFERROR('Síntesis del análisis'!H10*100,0) -> 0 | D11: =+IFERROR('Síntesis del análisis'!I10*100,0) -> 50 | E11: =IFERROR(AVERAGE(C11:D11),"") -> 25
B12: 7.4 Gestión de riesgos y cumplimiento social | C12: =+IFERROR('Síntesis del análisis'!H11*100,0) -> 0 | D12: =+IFERROR('Síntesis del análisis'!I11*100,0) -> 33 | E12: =IFERROR(AVERAGE(C12:D12),"") -> 16.5
B13: 7.5 Código de Ética con valores sociales | C13: =+IFERROR('Síntesis del análisis'!H12*100,0) -> 100 | D13: =+IFERROR('Síntesis del análisis'!I12*100,0) -> 100 | E13: =IFERROR(AVERAGE(C13:D13),"") -> 100
B14: 7.6 Equilibrio del crecimiento económico, social y ambiental | C14: =+IFERROR('Síntesis del análisis'!H13*100,0) -> 0 | D14: =+IFERROR('Síntesis del análisis'!I13*100,0) -> 50 | E14: =IFERROR(AVERAGE(C14:D14),"") -> 25
B15: 7.7 Equilibrio en políticas de precios, tarifas e indicadores financieros | C15: =+IFERROR('Síntesis del análisis'!H14*100,0) -> 0 | D15: =+IFERROR('Síntesis del análisis'!I14*100,0) -> 75 | E15: =IFERROR(AVERAGE(C15:D15),"") -> 37.5
B48: Cumplimiento por estándares
B50: Estándares Generales | C50: Formal | D50: Factual | E50: Total | G50: Fortalezas | H50: Ámbitos de Mejora | I50: Riesgos
B51: =+'Síntesis del análisis'!B8 -> 7.1 Objetivos de impacto social de la Organización | C51: =+IFERROR('Síntesis del análisis'!H8/2*100,0) -> 100 | D51: =+IFERROR('Síntesis del análisis'!I8/2*100,0) -> 100 | E51: =IFERROR(AVERAGE(C51:D51),"") -> 100
B52: =+'Síntesis del análisis'!B9 -> 7.2 Competencias y compromiso de la directiva con el desempeño social | C52: =+IFERROR('Síntesis del análisis'!H9*100,0) -> 0 | D52: =+IFERROR('Síntesis del análisis'!I9*100,0) -> 50 | E52: =IFERROR(AVERAGE(C52:D52),"") -> 25
B53: =+'Síntesis del análisis'!B10 -> 7.3 Gestión social y liderazgo de la Alta Gerencia | C53: =+IFERROR('Síntesis del análisis'!H10*100,0) -> 0 | D53: =+IFERROR('Síntesis del análisis'!I10*100,0) -> 50 | E53: =IFERROR(AVERAGE(C53:D53),"") -> 25
B54: =+'Síntesis del análisis'!B11 -> 7.4 Gestión de riesgos y cumplimiento social | C54: =+IFERROR('Síntesis del análisis'!H11*100,0) -> 0 | D54: =+IFERROR('Síntesis del análisis'!I11*100,0) -> 33 | E54: =IFERROR(AVERAGE(C54:D54),"") -> 16.5
B55: =+'Síntesis del análisis'!B12 -> 7.5 Código de Ética con valores sociales | C55: =+IFERROR('Síntesis del análisis'!H12*100,0) -> 100 | D55: =+IFERROR('Síntesis del análisis'!I12*100,0) -> 100 | E55: =IFERROR(AVERAGE(C55:D55),"") -> 100
B56: =+'Síntesis del análisis'!B13 -> 7.6 Equilibrio del crecimiento económico, social y ambiental | C56: =+IFERROR('Síntesis del análisis'!H13*100,0) -> 0 | D56: =+IFERROR('Síntesis del análisis'!I13*100,0) -> 50 | E56: =IFERROR(AVERAGE(C56:D56),"") -> 25
B57: =+'Síntesis del análisis'!B14 -> 7.7 Equilibrio en políticas de precios, tarifas e indicadores financieros | C57: =+IFERROR('Síntesis del análisis'!H14*100,0) -> 0 | D57: =+IFERROR('Síntesis del análisis'!I14*100,0) -> 75 | E57: =IFERROR(AVERAGE(C57:D57),"") -> 37.5
B58: =+IF('Síntesis del análisis'!P33="","",'Síntesis del análisis'!T30)
B59: =+IF('Síntesis del análisis'!P34="","",'Síntesis del análisis'!T31) | G59: *En estas columnas se puede colocar de foram resumida los hallazgos que haya identificado el usuario. No es mandatorio completar todas las celdas.
B60: =+IF('Síntesis del análisis'!P35="","",'Síntesis del análisis'!T32)
B61: =+IF('Síntesis del análisis'!P36="","",'Síntesis del análisis'!T33)
B62: =+IF('Síntesis del análisis'!P37="","",'Síntesis del análisis'!T34)
B63: =+IF('Síntesis del análisis'!P38="","",'Síntesis del análisis'!T35)
B64: =+IF('Síntesis del análisis'!P39="","",'Síntesis del análisis'!T36)
B65: =+IF('Síntesis del análisis'!P40="","",'Síntesis del análisis'!T37)
B66: =+IF('Síntesis del análisis'!P41="","",'Síntesis del análisis'!T38)
B67: =+IF('Síntesis del análisis'!P42="","",'Síntesis del análisis'!T39)
B68: =+IF('Síntesis del análisis'!P43="","",'Síntesis del análisis'!T40)
B69: =+IF('Síntesis del análisis'!P44="","",'Síntesis del análisis'!T41)
B70: =+IF('Síntesis del análisis'!P45="","",'Síntesis del análisis'!T42)
B71: =+IF('Síntesis del análisis'!P46="","",'Síntesis del análisis'!T43)
... B145: =+IF('Síntesis del análisis'!P120="","",'Síntesis del análisis'!T117)

Sheet Puntajes por Estándares 
B4: ESTÁNDAR ESGIF | C4: EVIDENCIA FORMAL /DOCUMENTAL | E4: EVIDENCIA FACTUAL/APLICACIÓN
C5: Cumple | D5: No cumple | E5: Nula | F5: Débil | G5: Parcial | H5: Parcial mayor | I5: Completa
G6: menor
B7: 7.1 Objetivos de impacto social de la Organización | C7: 2 | D7: 0 | E7: 0 | F7: 0 | G7: 0.66 | H7: 1.33 | I7: 2
B8: 7.2 Competencias y compromiso de la directiva con el desempeño social | C8: 1 | D8: 0 | E8: 0 | F8: 0.25 | G8: 0.5 | H8: 0.75 | I8: 1
B9: 7.3 Gestión social y liderazgo de la Alta Gerencia | C9: 1 | D9: 0 | E9: 0 | F9: 0.25 | G9: 0.5 | H9: 0.75 | I9: 1
B10: 7.4 Gestión de riesgos y cumplimiento social | C10: 1 | D10: 0 | E10: 0 | F10: 0 | G10: 0.33 | H10: 0.67 | I10: 1
B11: 7.5 Código de Ética con valores sociales | C11: 1 | D11: 0 | E11: 0 | F11: 0 | G11: 0 | H11: 0 | I11: 1
B12: 7.6 Equilibrio del crecimiento económico, social y ambiental | C12: 1 | D12: 0 | E12: 0 | F12: 0 | G12: 0 | H12: 0.5 | I12: 1
B13: 7.7 Equilibrio en políticas de precios, tarifas e indicadores financieros | C13: 1 | D13: 0 | E13: 0 | F13: 0.25 | G13: 0.5 | H13: 0.75 | I13: 1

Sheet Ejemplo
B2: POR REVISAR
A4: Análisis Formal (Hoja "Formal Generales"):
A6: =+'Formal General'!A3 -> ESTÁNDAR (Conforme lo definido en el documento: "Base Teórica y Manual de Desempeño Social") | B6: =+'Formal General'!B3 -> COMPONENTES (Conforme lo definido en la "Base Teórica y Manual de Desempeño Social") | C6: =+'Formal General'!C3 -> EVIDENCIA (Reseña de las evidencias que permiten verificar el cumplimiento de cada componente, en conformidad a los criterios establecidos en el "Instrumento de Diagnóstico y Evaluación") | D6: =+'Formal General'!D3 -> CONCLUSION DE CUMPLIMIENTO (El CC concluye si se cumple o no lo propuesto en el componente, marcar con "x" la opción que corresponda) | F6: =+'Formal General'!F3 -> COMENTARIOS (Apreciaciones del CC en relación a lo que se podría mejorar en la Organización)
D7: =+'Formal General'!D5 -> Si cumple | E7: =+'Formal General'!E5 -> No cumple
A8: Condiciones generales
A9: Objetivos de la Organización | B9: Sistema de gestión de la información para recopilar datos de desempeño social, de forma regular y continua, con procesos de verificación y análisis de resultados por segmentos de clientes. | C9: La organización maneja una base de información por medio de un programa de BI, que permite segmentar por segmentos de clientes y características sociodemográficas. Se tiene un manual de manejo de información de la herramienta BI | D9: X
A11: Pilar I: Derechos de Propiedad
A12: Estándar 1P: Paridad de trato | B12: Igualdad de convocatoria | C12: El Estatuto en su artículo X, reconoce que la organización se adhiere al marco normativo vigente. En tal sentido, la ley comercial rige de manera supletoria en aspectos relacionados a los mecanismos y oportunidad de convocatoria. | D12: X
B13: Igualdad en la recepción de información para reuniones | C13: El Estatuto en su artículo Y reconoce que los accionistas que se encuentren en condiciones similares reciben la misma información con idéntica antelación a las reuniones. | D13: X
A15: Pilar II: Órgano de Dirección
A16: Estándar 9P: Nombramiento y reelección de directores | B16: Facultad de la Asamblea General de nombrar y reelegir a los directores | C16: El Estatuto en su artículo X, reconoce que la organización se adhiere al marco normativo vigente. En tal sentido, la ley comercial rige de manera supletoria aquellos aspectos relacionados a las competencias de la Asamblea General. Entre éstos figura la facultad de nombrar miembros del Órgano de Dirección. | D16: X
A18: Pilar III: Gestión
A19: Estándar 17P: Compromiso con los clientes y la Inclusión Financiera | B19: Lineamientos para la prevención de sobreendeudamiento | C19: En el Código de Ética en su artículo X, establece los líneamientos que la institución tomará para prevenir el sobreendeudamiento de los clientes, tales como la consulta en el buró de crédito, aplicación correcta de la metodología de crédito y el análisis con el scoring. | D19: x
B20: Lineamientos para el trato justo de clientes | C20: En la Política de Desempeño Social, en el artículo X, establece los mecanismos para el trato justo del cliente, tales como el acceso a información detallada de los costos, los derechos del cliente y los mecanismos de denuncia en caso de recibir mala atención. | D20: x
B21: Lineamientos para la solución de reclamos | C21: En el Código de Ética en su artículo X, establece el mecanismo detallada para la solución de reclamos por parte del cliente. | D21: x
A23: Pilar IV: Cumplimiento y Gestión de Riesgos
A24: Estándar 25P: Gestión integral de riesgos | B24: Aprobación de la política de gestión integral de riesgos | C24: El Estatuto, en el artículo X, establece que el Órgano de Dirección es el responsable de aprobar la política de gestión integral de riesgos, en concordancia con la regulación del órgano de control. | D24: x
B25: Implementación del sistema de gestión integral de riesgos | C25: La Resolución de Junta Monetaria XX, norma la implementación del sistema de gestión integral de riesgos, y el Manual de Gestión Integral de Riesgos define el procedimiento de implementación al interior de la institución. | D25: x
B26: Seguimiento de la gestión integral de riesgos | C26: El Manual de Gestión Integral de Riesgos establece los responsables, las acciones de implementación y el seguimiento de las mismas. | D26: x
B27: Evaluación periódica del sistema de gestión integral de riesgos | C27: El Manual de Gestión Integral de Riesgos, establece que el Comité de Riesgos evalúa las mejoras a realizar y su posible modificación o mejora, trimestralmente. | D27: x
A29: Pilar V: Ética y conflicto de interés
A30: Estándar 26P: Código de ética | B30: Contar con un código de ética vinculante a todos sus miembros y que regule la ética y conflicto de interés en la Organización, aprobación de los valores y principios éticos; así como, los principios relacionados a la prevención de lavado de activos, manejo de la información, responsabilidad social y con el medio ambiente | C30: El Código de ética ha sido aprobado por el Órgano de Dirección y explicita que es vinculante a todo nivel de la organización (incluidos los directores). Este documento regula los aspectos relacionados a la ética y conflicto de interés en la Organización, los valores y principios éticos; así como, los principios relacionados a la prevención de lavado de activos y actividades de responsabilidad social. Sin embargo, no hacen mención al manejo de información privilegiada y preservación del medio ambiente. | E30: X
B31: Aprobación de programas de capacitación relacionados al código de ética o que aborden los temas de ética y conflicto de interés por el Ejecutivo Principal | C31: El Código de ética no hace mención a la responsabilidad del Gerente General en relación a la aprobación de programas de capacitación y demás actividades de formación relacionadas al Código de ética. | E31: X
B32: Obligación del Órgano de Dirección de supervisar el cumplimiento del código de ética | C32: Entre las funciones del Órgano de Dirección, establecidas en el artículo X del Estatuto se enuncia: "Supervisar la gestión de la organización y el cumplimiento de las normas éticas establecidas en la organización". | D32: X
A34: Pilar VI: Comunicación y transparencia de Información
A35: Estándar 30P: Transacciones entre partes relacionadas | B35: Presentación de informes sobre acuerdos de operaciones entre partes relacionadas | C35: El Código Monetario establece en su artículo X, la definición de partes relacionadas y su tratamiento. La Resolución de Junta Monetaria XX, establece la presentación de informes sobre los acuerdos entre partes relacionadas. | D35: x
A37: Análisis Factual (Hoja "Factual Generales"):
A39: =+A6 -> ESTÁNDAR (Conforme lo definido en el documento: "Base Teórica y Manual de Desempeño Social") | B39: =+B6 -> COMPONENTES (Conforme lo definido en la "Base Teórica y Manual de Desempeño Social") | C39: =+C6 -> EVIDENCIA (Reseña de las evidencias que permiten verificar el cumplimiento de cada componente, en conformidad a los criterios establecidos en el "Instrumento de Diagnóstico y Evaluación") | D39: =+D6 -> CONCLUSION DE CUMPLIMIENTO (El CC concluye si se cumple o no lo propuesto en el componente, marcar con "x" la opción que corresponda) | F39: =+F6 -> COMENTARIOS (Apreciaciones del CC en relación a lo que se podría mejorar en la Organización)
D40: Si cumple | E40: No cumple
A41: Condiciones generales
A42: Objetivos de la Organización | B42: Objetivos para la sostenibilidad y viabilidad financiera | C42: Se verifica en actas de JGA la aprobación de los objetivos de la organización | D42: X
A44: =+A11 -> Pilar I: Derechos de Propiedad
A45: =+A12 -> Estándar 1P: Paridad de trato | B45: =+B12 -> Igualdad de convocatoria | C45: La convocatoria se realizó a través de anuncios publicados el mismo día en el diario de mayor circulación de la región y a través de la página web de la organización. Así, se considera que fueron accesibles para todos los accionistas. | D45: X
B46: =+B13 -> Igualdad en la recepción de información para reuniones | C46: La información mostrada en el diario de mayor circulación es menos exhaustiva que la convocatoria mostrada en la página web de la organización. Sin embargo, la convocatoria en el diario hace mención expresa al responsable designado en la organización al cual se puede solicitar información disponible para que los accionistas puedan formular adecuadamente su intención de voto. | D46: X
A48: Pilar II: Órgano de Dirección
A49: Estándar 9P: Nombramiento y reelección de directores | B49: Facultad de la Asamblea General de nombrar y reelegir a los directores | C49: Los directores son elegidos por tres años, siendo la última elección en el 2013, el ejercicio de esta facultad se evidencia en el Acta de la Asamblea General de marzo de 2013. | D49: X
A51: Pilar III: Gestión
A52: Estándar 17P: Compromiso con los clientes y la Inclusión Financiera | B52: Lineamientos para la prevención de sobreendeudamiento | C52: La interacción con el Jefe de Crédito, estableció el trabajo que realizan los analistas de crédito para confirmar el nivel de endeudamiento con el buró de crédito, así como la verificación de la aplicación de la metodología crediticia, la evaluación con el modelo de scoring, y la documentación de respaldo. | D52: x
B53: Lineamientos para el trato justo de clientes | C53: Los asesores de crédito, los oficiales de inversiones y el personal de atención al público reciben capacitación sobre los principios de protección al cliente y el trato justo. Informan a los clientes sobre sus derechos mediante folletos, y explican los canales de interacción con la institución. Se realiza evaluación de satisfacción. | D53: x
B54: Lineamientos para la solución de reclamos | C54: Se informa a los clientes sobre los mecanismos en donde pueden realizar sus reclamos, y el procedimiento que se sigue en la institución. El área de atención al cliente recibe los reclamos y cumple con el procedimiento interno. | D54: x
...
