Workbook

Sheet Carátula
I6: Instrumento de apreciación de cumplimiento: Hoja de Trabajo
H9: .
H10: .
H11: .

Sheet Encuesta 1
E6: Instrumento de Apreciación de Cumplimiento
E7: Fast Track
C10: Objetivos de la organización
C11: Los componentes o buenas prácticas que están planteados dentro del estandar: los objetivos de una organización: a) En el documento de constitución existen expresamente objetivos sociales y económicos. b) Existen criterios dentro la constitución que permiten tener viabilidad y sostenibilidad financiera. c) Dentro la constitución existen metas financieras y sociales, que son monitoreados por el Órgano de Dirección / Consejo / Junta Directiva
C12: Considerando los componentes antes mencionados, indique la puntuación que usted otorga a la organización en este estandar (marcar con “X” sólo una opción): Donde 0 significa que no cumple y 4 cumple totalmente.
C13: 0 | D13: 1 | E13: 2 | F13: 3 | G13: 4 | I13: X
C15: 0 | D15: 1 | E15: 2 | F15: 3 | G15: 4
C16: De los componentes antes enunciados, mencione aquel que a su juicio denota el mayor o mejor desarrollo:
C17: * Estándar con mayor o mejor desarrollo:
C18: De los compoentes antes enunciados, señale aquel que a su juicio aún no ha sido alcanzados y requieren mayor mejora: | I18: a) En el documento de constitución existen expresamente objetivos sociales y económicos.
C19: * Estándar con mayor necesidad de mejora: | I19: b) Existen criterios dentro la constitución que permiten tener viabilidad y sostenibilidad financiera.
C20: * Segunda referencia: | I20: c) Dentro la constitución existen metas financiaras y sociales, que son monitoreados por el Órgano de Dirección / Consejos.
C22: Pilar I: Derechos de propiedad
C23: El presente pilar alberga usualmente diferentes estándares o Buenas Prácticas de Gobernanza, entre las cuales: a) Los Socios o Asociados (según corresponda) reciben paridad de trato. b) Existen mecanismos de solución de controversias entre Socios o Asociados. c) Los Socios o Asociados pueden solicitar y tener acceso a información sobre el desenvolvimiento o desempeño de la Organización. d) Cualquier cambio sustantivo en la propiedad o administración de la Organización son explicados previamente a los Socios o Asociados. e) Se cuenta con política de distribución de utilidades o excedentes. f) Respecto al funcionamiento de la Asamblea General de Socios o Asociados: i. Se tiene funciones y competencias establecidas en documento de constitución de la Organización. ii. Está reglamentada en norma propia. iii. Cuenta con mecanismos de convocatoria que facilita la participación de Socios o Asociados. iv. Los Socios o Asociados están debidamente registrados. v. Existen mecanismos para que ellos puedan introducir puntos en agenda antes de la Asamblea General. vi. Se facilita el ejercicio de voto mediante diversos mecanismos.
C24: Considerando los estándares antes mencionados, indique la puntuación que usted otorga a la organización en este pilar (marcar con “X” sólo una opción):
C25: 0 | D25: 1 | E25: 2 | F25: 3 | G25: 4
C27: 0 | D27: 1 | E27: 2 | F27: 3 | G27: 4
C28: De los estándares antes enunciados, mencione aquel que a su juicio denota el mayor o mejor desarrollo:
C29: * Estándar con mayor o mejor desarrollo: | I29: a) Los Socios o Asociados (según corresponda) reciben paridad de trato.
C30: * Segunda referencia: | I30: b) Existen mecanismos de solución de controversias entre Socios o Asociados.
C31: De los estándares antes enunciados, señale aquel que a su juicio aún no ha sido alcanzados y requieren mayor mejora: | I31: c) Los Socios o Asociados pueden solicitar y tener acceso a información sobre el desenvolvimiento o desempeño de la Organización.
C32: * Estándar con mayor necesidad de mejora: | I32: d) Cualquier cambio sustantivo en la propiedad o administración de la Organización son explicados previamente a los Socios o Asociados.
C33: * Segunda referencia: | I33: e) Se cuenta con política de distribución de utilidades o excedentes.
I34: f) Respecto al funcionamiento de la Asamblea General de Socios o Asociados
C38: Pilar II: Órgano de Dirección
C39: El presente pilar alberga usualmente diferentes estándares o buenas prácticas de gobernanza, entre las que se relevan: a) Dentro las funciones y competencias del Órgano de Dirección / Consejos, se incluyen: i. Aprobación y monitoreo de estrategias de la Organización. ii. Aprobación y monitoreo del presupuesto de la Organización. iii. Aprobación de política para designación y remuneración del Ejecutivo Principal. iv. Aprobación de la política de administración de riesgos. v. Supervisión del cumplimiento de prácticas de Gobernanza. vi. Supervisión del cumplimiento de normas éticas y de conducta, incluida la política de manejo de conflicto de interés. vii. Supervisión de los sistemas de control interno. viii. Aprobación de los planes de sucesión de los cargos críticos. b) La Organización y funcionamiento del Órgano de Dirección / Consejos está reglamentado en norma propia albergando aspectos de conformación. convocatorias, y funciones de los distintos miembros, entre otros. c) Existen perfiles de los miembros del Órgano de Dirección / Consejos, definidos en función de competencia; los que son aplicados en su convocatoria. d) El Órgano de Dirección / Consejos está integrado por mayoría de miembros independientes. e) El Órgano de Dirección / Consejos contribuye a identificar, evaluar y proponer candidatos a miembros. f) Existe una política de retribución de los miembros, la cual es transparente. g) El Órgano de Dirección / Consejos es evaluado periódicamente; y se autoevalúa al menos anualmente. h) Deberes y derechos del Órgano de Dirección / Consejos se encuentran establecidos en su Documento de Constitución. i) En cuanto a la información; los miembros del Órgano de Dirección / Consejos tienen derecho a acceder y recibir toda la información relevante; así como obligarse a guardar reserva sobre la información confidencial. j) Los miembros al momento de integrarse acceden a una inducción sobre todos los aspectos relacionados a la Organización. k) El Órgano de Dirección / Consejos cuenta con plan anual de trabajo. l) El Órgano de Dirección / Consejos cuenta con política de delegación de facultades; y además conforma comités especializados; los cuales son presididos por miembros independientes.
C40: Considerando los estándares antes mencionados, indique la puntuación que usted otorga a la organización en este pilar (marcar con “X” sólo una opción):
C41: 0 | D41: 1 | E41: 2 | F41: 3 | G41: 4
C43: 0 | D43: 1 | E43: 2 | F43: 3 | G43: 4
C44: De los estándares antes enunciados, mencione aquel que a su juicio denota el mayor o mejor desarrollo: | I44: a) Dentro las funciones y competencias del Órgano de Dirección / Consejos
C45: * Estándar con mayor o mejor desarrollo: | I45: b) La Organización y funcionamiento del Órgano de Dirección / Consejos está reglamentado en norma propia albergando aspectos de conformación. convocatorias, y funciones de los distintos miembros, entre otros.
C46: * Segunda referencia: | I46: c) Existen perfiles de los miembros del Órgano de Dirección / Consejos, definidos en función de competencia; los que son aplicados en su convocatoria.
C47: De los estándares antes enunciados, señale aquel que a su juicio aún no ha sido alcanzados y requieren mayor mejora: | I47: d) El Órgano de Dirección / Consejos está integrado por mayoría de miembros independientes.
C48: * Estándar con mayor necesidad de mejora: | I48: e) El Órgano de Dirección / Consejos contribuye a identificar, evaluar y proponer candidatos a miembros.
C49: * Segunda referencia: | I49: f) Existe una política de retribución de los miembros, la cual es transparente.
I50: g) El Órgano de Dirección / Consejos es evaluado periódicamente; y se autoevalúa al menos anualmente.
C51: Pilar III: Gestión | I51: h) Deberes y derechos del Órgano de Dirección / Consejos se encuentran establecidos en su Documento de Constitución.
C52: El presente pilar alberga usualmente diferentes estándares o buenas prácticas de gobernanza, entre las que se relevan: a) En cuanto al Ejecutivo Principal : i. Sus funciones están definidas en la Normativa Interna, al igual que las de la Alta Gerencia. ii. Dispone de debida autonomía, al igual que la Alta Gerencia. iii. Su designación recae en persona distinta del Presidente del Órgano de Dirección. b) Con respecto a los Grupos de Interés la Organización: i. Existe una política de relacionamiento con éstos. ii. Contempla entre los mismos a las personas excluidas de la provisión de servicios financieros. c) La organización ha establecido políticas de trato responsable al cliente, incluyendo aspectos de prevención de sobreendeudamiento, trato justo, transparencia y solución de reclamos. d) La organización ha establecido en la Normativa Interna política de recursos humanos; incluyendo evaluaciones sobre clima laboral. e) La organización ha implementado y/o cuenta con un plan de sucesión para cargos críticos. f) Respecto de la Alta Gerencia, la Organización: i. Cuenta con política de remuneración con criterios bien definidos. ii. Realiza evaluaciones anuales de desempeño. g) La Organización cuenta con un comité de nombramiento y retribuciones conformado por miembros, con funciones definidas en Normativa Interna. | I52: i) En cuanto a la información; los miembros del Órgano de Dirección / Consejos tienen derecho a acceder y recibir toda la información relevante; así como obligarse a guardar reserva sobre la información confidencial.
C53: Considerando los estándares antes mencionados, indique la puntuación que usted otorga a la organización en este pilar (marcar con “X” sólo una opción): | I53: j) Los miembros al momento de integrarse acceden a una inducción sobre todos los aspectos relacionados a la Organización.
C54: 0 | D54: 1 | E54: 2 | F54: 3 | G54: 4 | I54: k) El Órgano de Dirección / Consejos cuenta con plan anual de trabajo.
...

Sheet Encuesta 2
C3: Objetivos de la organización
C4: Los mejores estándares plantean respecto de los objetivos de una organización que: a) Permitan tener viabilidad financiera. b) Consten por escrito en su documento de constitución. c) Permite generar indicadores de gestión y desempeño, que son monitoreados por el Órgano de Dirección.
C5: Considerando los estándares antes mencionados, indique la puntuación que usted otorga a la organización en este pilar (marcar con “X” sólo una opción):
C6: 0 | D6: 1 | E6: 2 | F6: 3 | G6: 4 | I6: X
C8: 0 | D8: 1 | E8: 2 | F8: 3 | G8: 4
C9: De los estándares antes enunciados, señale aquellos que a su juicio denotan el mayor o mejor desarrollo (máximo dos):
C10: * Primera referencia:
C11: * Segunda referencia:
C12: De los estándares antes enunciados, señale aquellos que a su juicio aún no han sido alcanzados y requieren mayor mejora (máximo dos): | I12: Permitan tener viabilidad financiera.
C13: * Primera referencia: | I13: Consten por escrito en su documento de constitución.
C14: * Segunda referencia: | I14: Permite generar indicadores de gestión y desempeño, que son monitoreados por el Órgano de Dirección.
C16: Pilar I: Derechos de propiedad
C17: El presente pilar alberga usualmente diferentes estándares o Buenas Prácticas de Gobernanza, entre las que se relevan: a) Los Socios o Asociados (según corresponda) iguales reciben paridad de trato. b) Existen mecanismos de solución de controversias entre Socios o Asociados. c) Socios o Asociados pueden solicitar y tener acceso a información sobre el desenvolvimiento o desempeño de la Organización. d) Cualquier cambio sustantivo en la propiedad o administración de la Organización son explicados previamente a los Socios o Asociados. e) Se cuenta con política de distribución de utilidades o excedentes. f) Funcionamiento de la Asamblea General, respecto de la Asamblea General de Socios o Asociados: i. Tiene funciones y competencias establecidas en documento de constitución de la Organización. ii. Está reglamentada en norma propia. iii. Cuenta con mecanismos de convocatoria que facilita la participación de Socios o Asociados. iv. Los Socios o Asociados están debidamente registrados. v. Existen mecanismos para que ellos pueden introducir puntos en agenda antes de la Asamblea General. vi. Se facilita su ejercicio de voto mediante diversos mecanismos.
C18: Considerando los estándares antes mencionados, indique la puntuación que usted otorga a la organización en este pilar (marcar con “X” sólo una opción):
C19: 0 | D19: 1 | E19: 2 | F19: 3 | G19: 4
C21: 0 | D21: 1 | E21: 2 | F21: 3 | G21: 4
C22: De los estándares antes enunciados, señale aquellos que a su juicio denotan el mayor o mejor desarrollo (máximo dos):
C23: * Primera referencia: | I23: Los Socios o Asociados (según corresponda) iguales reciben paridad de trato.
C24: * Segunda referencia: | I24: Existen mecanismos de solución de controversias entre Socios o Asociados.
C25: De los estándares antes enunciados, señale aquellos que a su juicio aún no han sido alcanzados y requieren mayor mejora (máximo dos): | I25: Socios o Asociados pueden solicitar y tener acceso a información sobre el desenvolvimiento o desempeño de la Organización.
C26: * Primera referencia: | I26: Cualquier cambio sustantivo en la propiedad o administración de la Organización son explicados previamente a los Socios o Asociados.
C27: * Segunda referencia: | I27: Se cuenta con política de distribución de utilidades o excedentes.
I28: Funcionamiento de la Asamblea General.
C29: Pilar II: Órgano de Dirección
C30: El presente pilar alberga usualmente diferentes estándares o buenas prácticas de gobernanza, entre las que se relevan: a) Funciones y competencias del Órgano de Dirección, incluyen: i. Aprobación y monitoreo de estrategias de la Organización. ii. Aprobación y monitoreo del presupuesto de la Organización. iii. Aprobación de política para designación y remuneración del Ejecutivo Principal. iv. Aprobación de la política de administración de riesgos. v. Supervisión del cumplimiento de prácticas de Gobernanza. vi. Supervisión del cumplimiento de normas éticas y de conducta, incluida la política de manejo de conflicto de interés. vii. Supervisión de los sistemas de control interno. viii. Aprobación de los planes de sucesión de los cargos críticos. b) La Organización y funcionamiento del Órgano de Dirección está reglamentado en norma propia albergando aspectos de conformación. convocatorias, y funciones de los distintos miembros, entre otros. c) Existen perfiles de los miembros del Órgano de Dirección, definidos en función de competencia; los que son aplicados en su convocatoria. d) El Órgano de Dirección está integrado por mayoría de miembros independientes. e) El Órgano de Dirección contribuye a identificar, evaluar y proponer candidatos a miembros. f) Existe una política de retribución de los miembros, la cual es transparente. g) El Órgano de Dirección es evaluado periódicamente; y se autoevalúa al menos anualmente. h) Deberes y derechos del Órgano de Dirección se encuentran establecidos en su Documento de Constitución. i) En cuanto a la información; los miembros del Órgano de Dirección tienen derecho a acceder y recibir toda la información relevante; así como obligarse a guardar reserva sobre la información confidencial. j) Los miembros al momento de integrarse acceden a una inducción sobre todos los aspectos relacionados a la Organización. k) Órgano de Dirección cuenta con plan anual de trabajo. l) El Órgano de Dirección cuenta con política de delegación de facultades; y además conforma comités especializados; los cuales son presididos por miembros independientes.
C31: Considerando los estándares antes mencionados, indique la puntuación que usted otorga a la organización en este pilar (marcar con “X” sólo una opción):
C32: 0 | D32: 1 | E32: 2 | F32: 3 | G32: 4
C34: 0 | D34: 1 | E34: 2 | F34: 3 | G34: 4
C35: De los estándares antes enunciados, señale aquellos que a su juicio denotan el mayor o mejor desarrollo (máximo dos): | I35: Funciones y competencias del Órgano de Dirección.
C36: * Primera referencia: | I36: La Organización y funcionamiento del Órgano de Dirección está reglamentado en norma propia albergando aspectos de conformación, convocatorias, y funciones de los distintos miembros, entre otros.
C37: * Segunda referencia: | I37: Existen perfiles de los miembros del Órgano de Dirección, definidos en función de competencia; los que son aplicados en su convocatoria.
C38: De los estándares antes enunciados, señale aquellos que a su juicio aún no han sido alcanzados y requieren mayor mejora (máximo dos): | I38: El Órgano de Dirección está integrado por mayoría de miembros independientes.
C39: * Primera referencia: | I39: El Órgano de Dirección contribuye a identificar, evaluar y proponer candidatos a miembros.
C40: * Segunda referencia: | I40: Existe una política de retribución de los miembros, la cual es transparente.
I41: El Órgano de Dirección es evaluado periódicamente; y se autoevalúa al menos anualmente.
C42: Pilar III: Gestión | I42: Deberes y derechos del Órgano de Dirección se encuentran establecidos en su Documento de Constitución.
C43: El presente pilar alberga usualmente diferentes estándares o buenas prácticas de gobernanza, entre las que se relevan: a) En cuanto al Ejecutivo Principal : i. Sus funciones están definidas en la Normativa Interna , al igual que las de la Alta Gerencia ii. Dispone de debida autonomía, al igual que la Alta Gerencia. iii. Su designación recae en persona distinta del Presidente del Órgano de Dirección b) Con respecto a los Grupos de Interés la Organización: i. Cuenta con política de relacionamiento con éstos. ii. Contempla entre los mismos a las personas excluidas de la provisión de servicios financieros. c) Organización ha establecido políticas de trato responsable al cliente, incluyendo aspectos de prevención de sobreendeudamiento, trato justo, transparencia y solución de reclamos. d) Organización ha establecido en la Normativa Interna política de recursos humanos; incluyendo evaluaciones sobre clima laboral. e) Organización ha implementado plan de sucesión para cargos críticos. f) Respecto de la Alta Gerencia, la Organización: i. Cuenta con política de remuneración con criterios bien definidos. ii. Realiza evaluaciones anuales de desempeño. g) La Organización cuenta con un comité de nombramiento y retribuciones conformado por miembros, con funciones definidas en Normativa Interna. | I43: En cuanto a la información; los miembros del Órgano de Dirección tienen derecho a acceder y recibir toda la información relevante; así como obligarse a guardar reserva sobre la información confidencial.
C44: Considerando los estándares antes mencionados, indique la puntuación que usted otorga a la organización en este pilar (marcar con “X” sólo una opción): | I44: Los miembros al momento de integrarse acceden a una inducción sobre todos los aspectos relacionados a la Organización
C45: 0 | D45: 1 | E45: 2 | F45: 3 | G45: 4 | I45: Órgano de Dirección cuenta con plan anual de trabajo
I46: El Órgano de dirección cuanta con política de delegación de facultades; y además conforma comités especializados; los cuales son presididos por miembros independientes
...

Sheet Encuesta 3
C3: Objetivos de la organización
C4: Los mejores estándares plantean respecto de los objetivos de una organización que: a) Permitan tener viabilidad financiera. b) Consten por escrito en su documento de constitución. c) Permite generar indicadores de gestión y desempeño, que son monitoreados por el Órgano de Dirección.
C5: Considerando los estándares antes mencionados, indique la puntuación que usted otorga a la organización en este pilar (marcar con “X” sólo una opción):
C6: 0 | D6: 1 | E6: 2 | F6: 3 | G6: 4 | I6: X
C8: 0 | D8: 1 | E8: 2 | F8: 3 | G8: 4
C9: De los estándares antes enunciados, señale aquellos que a su juicio denotan el mayor o mejor desarrollo :
C10: * Primera referencia:
C11: * Segunda referencia:
C12: De los estándares antes enunciados, señale aquellos que a su juicio aún no han sido alcanzados y requieren mayor mejora : | I12: a) En el documento de constitución existen expresamente objetivos sociales y económicos.
C13: * Primera referencia: | I13: b) Existen criterios dentro la constitución que permiten tener viabilidad y sostenibilidad financiera.
C14: * Segunda referencia: | I14: c) Dentro la constitución existen metas financiaras y sociales, que son monitoreados por el Órgano de Dirección / Consejos.
C16: Pilar I: Derechos de propiedad
C17: El presente pilar alberga usualmente diferentes estándares o Buenas Prácticas de Gobernanza, entre las que se relevan: a) Los Socios o Asociados (según corresponda) iguales reciben paridad de trato. b) Existen mecanismos de solución de controversias entre Socios o Asociados. c) Socios o Asociados pueden solicitar y tener acceso a información sobre el desenvolvimiento o desempeño de la Organización. d) Cualquier cambio sustantivo en la propiedad o administración de la Organización son explicados previamente a los Socios o Asociados. e) Se cuenta con política de distribución de utilidades o excedentes. f) Funcionamiento de la Asamblea General, respecto de la Asamblea General de Socios o Asociados: i. Tiene funciones y competencias establecidas en documento de constitución de la Organización. ii. Está reglamentada en norma propia. iii. Cuenta con mecanismos de convocatoria que facilita la participación de Socios o Asociados. iv. Los Socios o Asociados están debidamente registrados. v. Existen mecanismos para que ellos pueden introducir puntos en agenda antes de la Asamblea General. vi. Se facilita su ejercicio de voto mediante diversos mecanismos.
C18: Considerando los estándares antes mencionados, indique la puntuación que usted otorga a la organización en este pilar (marcar con “X” sólo una opción):
C19: 0 | D19: 1 | E19: 2 | F19: 3 | G19: 4
C21: 0 | D21: 1 | E21: 2 | F21: 3 | G21: 4
C22: De los estándares antes enunciados, señale aquellos que a su juicio denotan el mayor o mejor desarrollo :
C23: * Primera referencia: | I23: a) Los Socios o Asociados (según corresponda) reciben paridad de trato.
C24: * Segunda referencia: | I24: b) Existen mecanismos de solución de controversias entre Socios o Asociados.
C25: De los estándares antes enunciados, señale aquellos que a su juicio aún no han sido alcanzados y requieren mayor mejora : | I25: c) Los Socios o Asociados pueden solicitar y tener acceso a información sobre el desenvolvimiento o desempeño de la Organización.
C26: * Primera referencia: | I26: d) Cualquier cambio sustantivo en la propiedad o administración de la Organización son explicados previamente a los Socios o Asociados.
C27: * Segunda referencia: | I27: e) Se cuenta con política de distribución de utilidades o excedentes.
I28: f) Respecto al funcionamiento de la Asamblea General de Socios o Asociados
C29: Pilar II: Órgano de Dirección
C30: El presente pilar alberga usualmente diferentes estándares o buenas prácticas de gobernanza, entre las que se relevan: a) Dentro las funciones y competencias del Órgano de Dirección / Consejos, se incluyen: i. Aprobación y monitoreo de estrategias de la Organización. ii. Aprobación y monitoreo del presupuesto de la Organización. iii. Aprobación de política para designación y remuneración del Ejecutivo Principal. iv. Aprobación de la política de administración de riesgos. v. Supervisión del cumplimiento de prácticas de Gobernanza. vi. Supervisión del cumplimiento de normas éticas y de conducta, incluida la política de manejo de conflicto de interés. vii. Supervisión de los sistemas de control interno. viii. Aprobación de los planes de sucesión de los cargos críticos. b) La Organización y funcionamiento del Órgano de Dirección / Consejos está reglamentado en norma propia albergando aspectos de conformación. convocatorias, y funciones de los distintos miembros, entre otros. c) Existen perfiles de los miembros del Órgano de Dirección / Consejos, definidos en función de competencia; los que son aplicados en su convocatoria. d) El Órgano de Dirección / Consejos está integrado por mayoría de miembros independientes. e) El Órgano de Dirección / Consejos contribuye a identificar, evaluar y proponer candidatos a miembros. f) Existe una política de retribución de los miembros, la cual es transparente. g) El Órgano de Dirección / Consejos es evaluado periódicamente; y se autoevalúa al menos anualmente. h) Deberes y derechos del Órgano de Dirección / Consejos se encuentran establecidos en su Documento de Constitución. i) En cuanto a la información; los miembros del Órgano de Dirección / Consejos tienen derecho a acceder y recibir toda la información relevante; así como obligarse a guardar reserva sobre la información confidencial. j) Los miembros al momento de integrarse acceden a una inducción sobre todos los aspectos relacionados a la Organización. k) El Órgano de Dirección / Consejos cuenta con plan anual de trabajo. l) El Órgano de Dirección / Consejos cuenta con política de delegación de facultades; y además conforma comités especializados; los cuales son presididos por miembros independientes.
C31: Considerando los estándares antes mencionados, indique la puntuación que usted otorga a la organización en este pilar (marcar con “X” sólo una opción):
C32: 0 | D32: 1 | E32: 2 | F32: 3 | G32: 4
C34: 0 | D34: 1 | E34: 2 | F34: 3 | G34: 4
C35: De los estándares antes enunciados, señale aquellos que a su juicio denotan el mayor o mejor desarrollo : | I35: a) Dentro las funciones y competencias del Órgano de Dirección / Consejos
C36: * Primera referencia: | I36: b) La Organización y funcionamiento del Órgano de Dirección / Consejos está reglamentado en norma propia albergando aspectos de conformación. convocatorias, y funciones de los distintos miembros, entre otros.
C37: * Segunda referencia: | I37: c) Existen perfiles de los miembros del Órgano de Dirección / Consejos, definidos en función de competencia; los que son aplicados en su convocatoria.
C38: De los estándares antes enunciados, señale aquellos que a su juicio aún no han sido alcanzados y requieren mayor mejora : | I38: d) El Órgano de Dirección / Consejos está integrado por mayoría de miembros independientes.
C39: * Primera referencia: | I39: e) El Órgano de Dirección / Consejos contribuye a identificar, evaluar y proponer candidatos a miembros.
C40: * Segunda referencia: | I40: f) Existe una política de retribución de los miembros, la cual es transparente.
I41: g) El Órgano de Dirección / Consejos es evaluado periódicamente; y se autoevalúa al menos anualmente.
C42: Pilar III: Gestión | I42: h) Deberes y derechos del Órgano de Dirección / Consejos se encuentran establecidos en su Documento de Constitución.
C43: El presente pilar alberga usualmente diferentes estándares o buenas prácticas de gobernanza, entre las que se relevan: a) En cuanto al Ejecutivo Principal : i. Sus funciones están definidas en la Normativa Interna , al igual que las de la Alta Gerencia ii. Dispone de debida autonomía, al igual que la Alta Gerencia. iii. Su designación recae en persona distinta del Presidente del Órgano de Dirección b) Con respecto a los Grupos de Interés la Organización: i. Cuenta con política de relacionamiento con éstos. ii. Contempla entre los mismos a las personas excluidas de la provisión de servicios financieros. c) Organización ha establecido políticas de trato responsable al cliente, incluyendo aspectos de prevención de sobreendeudamiento, trato justo, transparencia y solución de reclamos. d) Organización ha establecido en la Normativa Interna política de recursos humanos; incluyendo evaluaciones sobre clima laboral. e) Organización ha implementado plan de sucesión para cargos críticos. f) Respecto de la Alta Gerencia, la Organización: i. Cuenta con política de remuneración con criterios bien definidos. ii. Realiza evaluaciones anuales de desempeño. g) La Organización cuenta con un comité de nombramiento y retribuciones conformado por miembros, con funciones definidas en Normativa Interna. | I43: i) En cuanto a la información; los miembros del Órgano de Dirección / Consejos tienen derecho a acceder y recibir toda la información relevante; así como obligarse a guardar reserva sobre la información confidencial.
C44: Considerando los estándares antes mencionados, indique la puntuación que usted otorga a la organización en este pilar (marcar con “X” sólo una opción): | I44: j) Los miembros al momento de integrarse acceden a una inducción sobre todos los aspectos relacionados a la Organización.
C45: 0 | D45: 1 | E45: 2 | F45: 3 | G45: 4 | I45: k) El Órgano de Dirección / Consejos cuenta con plan anual de trabajo.
I46: l) El Órgano de Dirección / Consejos cuenta con política de delegación de facultades; y además conforma comités especializados; los cuales son presididos por miembros independientes.
...

Sheet Encuesta 4
C3: Objetivos de la organización
C4: Los mejores estándares plantean respecto de los objetivos de una organización que: a) Permitan tener viabilidad financiera. b) Consten por escrito en su documento de constitución. c) Permite generar indicadores de gestión y desempeño, que son monitoreados por el Órgano de Dirección.
C5: Considerando los estándares antes mencionados, indique la puntuación que usted otorga a la organización en este pilar (marcar con “X” sólo una opción):
C6: 0 | D6: 1 | E6: 2 | F6: 3 | G6: 4 | I6: X
C8: 0 | D8: 1 | E8: 2 | F8: 3 | G8: 4
C9: De los estándares antes enunciados, señale aquellos que a su juicio denotan el mayor o mejor desarrollo (máximo dos):
C10: * Primera referencia:
C11: * Segunda referencia:
C12: De los estándares antes enunciados, señale aquellos que a su juicio aún no han sido alcanzados y requieren mayor mejora (máximo dos): | I12: Permitan tener viabilidad financiera.
C13: * Primera referencia: | I13: Consten por escrito en su documento de constitución.
C14: * Segunda referencia: | I14: Permite generar indicadores de gestión y desempeño, que son monitoreados por el Órgano de Dirección.
C16: Pilar I: Derechos de propiedad
C17: El presente pilar alberga usualmente diferentes estándares o Buenas Prácticas de Gobernanza, entre las que se relevan: a) Los Socios o Asociados (según corresponda) iguales reciben paridad de trato. b) Existen mecanismos de solución de controversias entre Socios o Asociados. c) Socios o Asociados pueden solicitar y tener acceso a información sobre el desenvolvimiento o desempeño de la Organización. d) Cualquier cambio sustantivo en la propiedad o administración de la Organización son explicados previamente a los Socios o Asociados. e) Se cuenta con política de distribución de utilidades o excedentes. f) Funcionamiento de la Asamblea General, respecto de la Asamblea General de Socios o Asociados: i. Tiene funciones y competencias establecidas en documento de constitución de la Organización. ii. Está reglamentada en norma propia. iii. Cuenta con mecanismos de convocatoria que facilita la participación de Socios o Asociados. iv. Los Socios o Asociados están debidamente registrados. v. Existen mecanismos para que ellos pueden introducir puntos en agenda antes de la Asamblea General. vi. Se facilita su ejercicio de voto mediante diversos mecanismos.
C18: Considerando los estándares antes mencionados, indique la puntuación que usted otorga a la organización en este pilar (marcar con “X” sólo una opción):
C19: 0 | D19: 1 | E19: 2 | F19: 3 | G19: 4
C21: 0 | D21: 1 | E21: 2 | F21: 3 | G21: 4
C22: De los estándares antes enunciados, señale aquellos que a su juicio denotan el mayor o mejor desarrollo (máximo dos):
C23: * Primera referencia: | I23: Los Socios o Asociados (según corresponda) iguales reciben paridad de trato.
C24: * Segunda referencia: | I24: Existen mecanismos de solución de controversias entre Socios o Asociados.
C25: De los estándares antes enunciados, señale aquellos que a su juicio aún no han sido alcanzados y requieren mayor mejora (máximo dos): | I25: Socios o Asociados pueden solicitar y tener acceso a información sobre el desenvolvimiento o desempeño de la Organización.
C26: * Primera referencia: | I26: Cualquier cambio sustantivo en la propiedad o administración de la Organización son explicados previamente a los Socios o Asociados.
C27: * Segunda referencia: | I27: Se cuenta con política de distribución de utilidades o excedentes.
I28: Funcionamiento de la Asamblea General.
C29: Pilar II: Órgano de Dirección
C30: El presente pilar alberga usualmente diferentes estándares o buenas prácticas de gobernanza, entre las que se relevan: a) Funciones y competencias del Órgano de Dirección, incluyen: i. Aprobación y monitoreo de estrategias de la Organización. ii. Aprobación y monitoreo del presupuesto de la Organización. iii. Aprobación de política para designación y remuneración del Ejecutivo Principal. iv. Aprobación de la política de administración de riesgos. v. Supervisión del cumplimiento de prácticas de Gobernanza. vi. Supervisión del cumplimiento de normas éticas y de conducta, incluida la política de manejo de conflicto de interés. vii. Supervisión de los sistemas de control interno. viii. Aprobación de los planes de sucesión de los cargos críticos. b) La Organización y funcionamiento del Órgano de Dirección está reglamentado en norma propia albergando aspectos de conformación. convocatorias, y funciones de los distintos miembros, entre otros. c) Existen perfiles de los miembros del Órgano de Dirección, definidos en función de competencia; los que son aplicados en su convocatoria. d) El Órgano de Dirección está integrado por mayoría de miembros independientes. e) El Órgano de Dirección contribuye a identificar, evaluar y proponer candidatos a miembros. f) Existe una política de retribución de los miembros, la cual es transparente. g) El Órgano de Dirección es evaluado periódicamente; y se autoevalúa al menos anualmente. h) Deberes y derechos del Órgano de Dirección se encuentran establecidos en su Documento de Constitución. i) En cuanto a la información; los miembros del Órgano de Dirección tienen derecho a acceder y recibir toda la información relevante; así como obligarse a guardar reserva sobre la información confidencial. j) Los miembros al momento de integrarse acceden a una inducción sobre todos los aspectos relacionados a la Organización. k) Órgano de Dirección cuenta con plan anual de trabajo. l) El Órgano de Dirección cuenta con política de delegación de facultades; y además conforma comités especializados; los cuales son presididos por miembros independientes.
C31: Considerando los estándares antes mencionados, indique la puntuación que usted otorga a la organización en este pilar (marcar con “X” sólo una opción):
C32: 0 | D32: 1 | E32: 2 | F32: 3 | G32: 4
C34: 0 | D34: 1 | E34: 2 | F34: 3 | G34: 4
C35: De los estándares antes enunciados, señale aquellos que a su juicio denotan el mayor o mejor desarrollo (máximo dos): | I35: Funciones y competencias del Órgano de Dirección.
C36: * Primera referencia: | I36: La Organización y funcionamiento del Órgano de Dirección está reglamentado en norma propia albergando aspectos de conformación, convocatorias, y funciones de los distintos miembros, entre otros.
C37: * Segunda referencia: | I37: Existen perfiles de los miembros del Órgano de Dirección, definidos en función de competencia; los que son aplicados en su convocatoria.
C38: De los estándares antes enunciados, señale aquellos que a su juicio aún no han sido alcanzados y requieren mayor mejora (máximo dos): | I38: El Órgano de Dirección está integrado por mayoría de miembros independientes.
C39: * Primera referencia: | I39: El Órgano de Dirección contribuye a identificar, evaluar y proponer candidatos a miembros.
C40: * Segunda referencia: | I40: Existe una política de retribución de los miembros, la cual es transparente.
I41: El Órgano de Dirección es evaluado periódicamente; y se autoevalúa al menos anualmente.
C42: Pilar III: Gestión | I42: Deberes y derechos del Órgano de Dirección se encuentran establecidos en su Documento de Constitución.
C43: El presente pilar alberga usualmente diferentes estándares o buenas prácticas de gobernanza, entre las que se relevan: a) En cuanto al Ejecutivo Principal : i. Sus funciones están definidas en la Normativa Interna , al igual que las de la Alta Gerencia ii. Dispone de debida autonomía, al igual que la Alta Gerencia. iii. Su designación recae en persona distinta del Presidente del Órgano de Dirección b) Con respecto a los Grupos de Interés la Organización: i. Cuenta con política de relacionamiento con éstos. ii. Contempla entre los mismos a las personas excluidas de la provisión de servicios financieros. c) Organización ha establecido políticas de trato responsable al cliente, incluyendo aspectos de prevención de sobreendeudamiento, trato justo, transparencia y solución de reclamos. d) Organización ha establecido en la Normativa Interna política de recursos humanos; incluyendo evaluaciones sobre clima laboral. e) Organización ha implementado plan de sucesión para cargos críticos. f) Respecto de la Alta Gerencia, la Organización: i. Cuenta con política de remuneración con criterios bien definidos. ii. Realiza evaluaciones anuales de desempeño. g) La Organización cuenta con un comité de nombramiento y retribuciones conformado por miembros, con funciones definidas en Normativa Interna. | I43: En cuanto a la información; los miembros del Órgano de Dirección tienen derecho a acceder y recibir toda la información relevante; así como obligarse a guardar reserva sobre la información confidencial.
C44: Considerando los estándares antes mencionados, indique la puntuación que usted otorga a la organización en este pilar (marcar con “X” sólo una opción): | I44: Los miembros al momento de integrarse acceden a una inducción sobre todos los aspectos relacionados a la Organización
C45: 0 | D45: 1 | E45: 2 | F45: 3 | G45: 4 | I45: Órgano de Dirección cuenta con plan anual de trabajo
I46: El Órgano de dirección cuanta con política de delegación de facultades; y además conforma comités especializados; los cuales son presididos por miembros independientes
...

Sheet Encuesta 5
C3: Objetivos de la organización
C4: Los mejores estándares plantean respecto de los objetivos de una organización que: a) Permitan tener viabilidad financiera. b) Consten por escrito en su documento de constitución. c) Permite generar indicadores de gestión y desempeño, que son monitoreados por el Órgano de Dirección.
C5: Considerando los estándares antes mencionados, indique la puntuación que usted otorga a la organización en este pilar (marcar con “X” sólo una opción):
C6: 0 | D6: 1 | E6: 2 | F6: 3 | G6: 4 | I6: X
C8: 0 | D8: 1 | E8: 2 | F8: 3 | G8: 4
C9: De los estándares antes enunciados, señale aquellos que a su juicio denotan el mayor o mejor desarrollo (máximo dos):
C10: * Primera referencia:
C11: * Segunda referencia:
C12: De los estándares antes enunciados, señale aquellos que a su juicio aún no han sido alcanzados y requieren mayor mejora (máximo dos): | I12: Permitan tener viabilidad financiera.
C13: * Primera referencia: | I13: Consten por escrito en su documento de constitución.
C14: * Segunda referencia: | I14: Permite generar indicadores de gestión y desempeño, que son monitoreados por el Órgano de Dirección.
C16: Pilar I: Derechos de propiedad
C17: El presente pilar alberga usualmente diferentes estándares o Buenas Prácticas de Gobernanza, entre las que se relevan: a) Los Socios o Asociados (según corresponda) iguales reciben paridad de trato. b) Existen mecanismos de solución de controversias entre Socios o Asociados. c) Socios o Asociados pueden solicitar y tener acceso a información sobre el desenvolvimiento o desempeño de la Organización. d) Cualquier cambio sustantivo en la propiedad o administración de la Organización son explicados previamente a los Socios o Asociados. e) Se cuenta con política de distribución de utilidades o excedentes. f) Funcionamiento de la Asamblea General, respecto de la Asamblea General de Socios o Asociados: i. Tiene funciones y competencias establecidas en documento de constitución de la Organización. ii. Está reglamentada en norma propia. iii. Cuenta con mecanismos de convocatoria que facilita la participación de Socios o Asociados. iv. Los Socios o Asociados están debidamente registrados. v. Existen mecanismos para que ellos pueden introducir puntos en agenda antes de la Asamblea General. vi. Se facilita su ejercicio de voto mediante diversos mecanismos.
C18: Considerando los estándares antes mencionados, indique la puntuación que usted otorga a la organización en este pilar (marcar con “X” sólo una opción):
C19: 0 | D19: 1 | E19: 2 | F19: 3 | G19: 4
C21: 0 | D21: 1 | E21: 2 | F21: 3 | G21: 4
C22: De los estándares antes enunciados, señale aquellos que a su juicio denotan el mayor o mejor desarrollo (máximo dos):
C23: * Primera referencia: | I23: Los Socios o Asociados (según corresponda) iguales reciben paridad de trato.
C24: * Segunda referencia: | I24: Existen mecanismos de solución de controversias entre Socios o Asociados.
C25: De los estándares antes enunciados, señale aquellos que a su juicio aún no han sido alcanzados y requieren mayor mejora (máximo dos): | I25: Socios o Asociados pueden solicitar y tener acceso a información sobre el desenvolvimiento o desempeño de la Organización.
C26: * Primera referencia: | I26: Cualquier cambio sustantivo en la propiedad o administración de la Organización son explicados previamente a los Socios o Asociados.
C27: * Segunda referencia: | I27: Se cuenta con política de distribución de utilidades o excedentes.
I28: Funcionamiento de la Asamblea General.
C29: Pilar II: Órgano de Dirección
C30: El presente pilar alberga usualmente diferentes estándares o buenas prácticas de gobernanza, entre las que se relevan: a) Funciones y competencias del Órgano de Dirección, incluyen: i. Aprobación y monitoreo de estrategias de la Organización. ii. Aprobación y monitoreo del presupuesto de la Organización. iii. Aprobación de política para designación y remuneración del Ejecutivo Principal. iv. Aprobación de la política de administración de riesgos. v. Supervisión del cumplimiento de prácticas de Gobernanza. vi. Supervisión del cumplimiento de normas éticas y de conducta, incluida la política de manejo de conflicto de interés. vii. Supervisión de los sistemas de control interno. viii. Aprobación de los planes de sucesión de los cargos críticos. b) La Organización y funcionamiento del Órgano de Dirección está reglamentado en norma propia albergando aspectos de conformación. convocatorias, y funciones de los distintos miembros, entre otros. c) Existen perfiles de los miembros del Órgano de Dirección, definidos en función de competencia; los que son aplicados en su convocatoria. d) El Órgano de Dirección está integrado por mayoría de miembros independientes. e) El Órgano de Dirección contribuye a identificar, evaluar y proponer candidatos a miembros. f) Existe una política de retribución de los miembros, la cual es transparente. g) El Órgano de Dirección es evaluado periódicamente; y se autoevalúa al menos anualmente. h) Deberes y derechos del Órgano de Dirección se encuentran establecidos en su Documento de Constitución. i) En cuanto a la información; los miembros del Órgano de Dirección tienen derecho a acceder y recibir toda la información relevante; así como obligarse a guardar reserva sobre la información confidencial. j) Los miembros al momento de integrarse acceden a una inducción sobre todos los aspectos relacionados a la Organización. k) Órgano de Dirección cuenta con plan anual de trabajo. l) El Órgano de Dirección cuenta con política de delegación de facultades; y además conforma comités especializados; los cuales son presididos por miembros independientes.
C31: Considerando los estándares antes mencionados, indique la puntuación que usted otorga a la organización en este pilar (marcar con “X” sólo una opción):
C32: 0 | D32: 1 | E32: 2 | F32: 3 | G32: 4
C34: 0 | D34: 1 | E34: 2 | F34: 3 | G34: 4
C35: De los estándares antes enunciados, señale aquellos que a su juicio denotan el mayor o mejor desarrollo (máximo dos): | I35: Funciones y competencias del Órgano de Dirección.
C36: * Primera referencia: | I36: La Organización y funcionamiento del Órgano de Dirección está reglamentado en norma propia albergando aspectos de conformación, convocatorias, y funciones de los distintos miembros, entre otros.
C37: * Segunda referencia: | I37: Existen perfiles de los miembros del Órgano de Dirección, definidos en función de competencia; los que son aplicados en su convocatoria.
C38: De los estándares antes enunciados, señale aquellos que a su juicio aún no han sido alcanzados y requieren mayor mejora (máximo dos): | I38: El Órgano de Dirección está integrado por mayoría de miembros independientes.
C39: * Primera referencia: | I39: El Órgano de Dirección contribuye a identificar, evaluar y proponer candidatos a miembros.
C40: * Segunda referencia: | I40: Existe una política de retribución de los miembros, la cual es transparente.
I41: El Órgano de Dirección es evaluado periódicamente; y se autoevalúa al menos anualmente.
C42: Pilar III: Gestión | I42: Deberes y derechos del Órgano de Dirección se encuentran establecidos en su Documento de Constitución.
C43: El presente pilar alberga usualmente diferentes estándares o buenas prácticas de gobernanza, entre las que se relevan: a) En cuanto al Ejecutivo Principal : i. Sus funciones están definidas en la Normativa Interna , al igual que las de la Alta Gerencia ii. Dispone de debida autonomía, al igual que la Alta Gerencia. iii. Su designación recae en persona distinta del Presidente del Órgano de Dirección b) Con respecto a los Grupos de Interés la Organización: i. Cuenta con política de relacionamiento con éstos. ii. Contempla entre los mismos a las personas excluidas de la provisión de servicios financieros. c) Organización ha establecido políticas de trato responsable al cliente, incluyendo aspectos de prevención de sobreendeudamiento, trato justo, transparencia y solución de reclamos. d) Organización ha establecido en la Normativa Interna política de recursos humanos; incluyendo evaluaciones sobre clima laboral. e) Organización ha implementado plan de sucesión para cargos críticos. f) Respecto de la Alta Gerencia, la Organización: i. Cuenta con política de remuneración con criterios bien definidos. ii. Realiza evaluaciones anuales de desempeño. g) La Organización cuenta con un comité de nombramiento y retribuciones conformado por miembros, con funciones definidas en Normativa Interna. | I43: En cuanto a la información; los miembros del Órgano de Dirección tienen derecho a acceder y recibir toda la información relevante; así como obligarse a guardar reserva sobre la información confidencial.
C44: Considerando los estándares antes mencionados, indique la puntuación que usted otorga a la organización en este pilar (marcar con “X” sólo una opción): | I44: Los miembros al momento de integrarse acceden a una inducción sobre todos los aspectos relacionados a la Organización
C45: 0 | D45: 1 | E45: 2 | F45: 3 | G45: 4 | I45: Órgano de Dirección cuenta con plan anual de trabajo
I46: El Órgano de dirección cuanta con política de delegación de facultades; y además conforma comités especializados; los cuales son presididos por miembros independientes
...

Sheet Encuesta 6
C3: Objetivos de la organización
C4: Los mejores estándares plantean respecto de los objetivos de una organización que: a) Permitan tener viabilidad financiera. b) Consten por escrito en su documento de constitución. c) Permite generar indicadores de gestión y desempeño, que son monitoreados por el Órgano de Dirección.
C5: Considerando los estándares antes mencionados, indique la puntuación que usted otorga a la organización en este pilar (marcar con “X” sólo una opción):
C6: 0 | D6: 1 | E6: 2 | F6: 3 | G6: 4 | I6: X
C8: 0 | D8: 1 | E8: 2 | F8: 3 | G8: 4
C9: De los estándares antes enunciados, señale aquellos que a su juicio denotan el mayor o mejor desarrollo (máximo dos):
C10: * Primera referencia:
C11: * Segunda referencia:
C12: De los estándares antes enunciados, señale aquellos que a su juicio aún no han sido alcanzados y requieren mayor mejora (máximo dos): | I12: Permitan tener viabilidad financiera.
C13: * Primera referencia: | I13: Consten por escrito en su documento de constitución.
C14: * Segunda referencia: | I14: Permite generar indicadores de gestión y desempeño, que son monitoreados por el Órgano de Dirección.
C16: Pilar I: Derechos de propiedad
C17: El presente pilar alberga usualmente diferentes estándares o Buenas Prácticas de Gobernanza, entre las que se relevan: a) Los Socios o Asociados (según corresponda) iguales reciben paridad de trato. b) Existen mecanismos de solución de controversias entre Socios o Asociados. c) Socios o Asociados pueden solicitar y tener acceso a información sobre el desenvolvimiento o desempeño de la Organización. d) Cualquier cambio sustantivo en la propiedad o administración de la Organización son explicados previamente a los Socios o Asociados. e) Se cuenta con política de distribución de utilidades o excedentes. f) Funcionamiento de la Asamblea General, respecto de la Asamblea General de Socios o Asociados: i. Tiene funciones y competencias establecidas en documento de constitución de la Organización. ii. Está reglamentada en norma propia. iii. Cuenta con mecanismos de convocatoria que facilita la participación de Socios o Asociados. iv. Los Socios o Asociados están debidamente registrados. v. Existen mecanismos para que ellos pueden introducir puntos en agenda antes de la Asamblea General. vi. Se facilita su ejercicio de voto mediante diversos mecanismos.
C18: Considerando los estándares antes mencionados, indique la puntuación que usted otorga a la organización en este pilar (marcar con “X” sólo una opción):
C19: 0 | D19: 1 | E19: 2 | F19: 3 | G19: 4
C21: 0 | D21: 1 | E21: 2 | F21: 3 | G21: 4
C22: De los estándares antes enunciados, señale aquellos que a su juicio denotan el mayor o mejor desarrollo (máximo dos):
C23: * Primera referencia: | I23: Los Socios o Asociados (según corresponda) iguales reciben paridad de trato.
C24: * Segunda referencia: | I24: Existen mecanismos de solución de controversias entre Socios o Asociados.
C25: De los estándares antes enunciados, señale aquellos que a su juicio aún no han sido alcanzados y requieren mayor mejora (máximo dos): | I25: Socios o Asociados pueden solicitar y tener acceso a información sobre el desenvolvimiento o desempeño de la Organización.
C26: * Primera referencia: | I26: Cualquier cambio sustantivo en la propiedad o administración de la Organización son explicados previamente a los Socios o Asociados.
C27: * Segunda referencia: | I27: Se cuenta con política de distribución de utilidades o excedentes.
I28: Funcionamiento de la Asamblea General.
C29: Pilar II: Órgano de Dirección
C30: El presente pilar alberga usualmente diferentes estándares o buenas prácticas de gobernanza, entre las que se relevan: a) Funciones y competencias del Órgano de Dirección, incluyen: i. Aprobación y monitoreo de estrategias de la Organización. ii. Aprobación y monitoreo del presupuesto de la Organización. iii. Aprobación de política para designación y remuneración del Ejecutivo Principal. iv. Aprobación de la política de administración de riesgos. v. Supervisión del cumplimiento de prácticas de Gobernanza. vi. Supervisión del cumplimiento de normas éticas y de conducta, incluida la política de manejo de conflicto de interés. vii. Supervisión de los sistemas de control interno. viii. Aprobación de los planes de sucesión de los cargos críticos. b) La Organización y funcionamiento del Órgano de Dirección está reglamentado en norma propia albergando aspectos de conformación. convocatorias, y funciones de los distintos miembros, entre otros. c) Existen perfiles de los miembros del Órgano de Dirección, definidos en función de competencia; los que son aplicados en su convocatoria. d) El Órgano de Dirección está integrado por mayoría de miembros independientes. e) El Órgano de Dirección contribuye a identificar, evaluar y proponer candidatos a miembros. f) Existe una política de retribución de los miembros, la cual es transparente. g) El Órgano de Dirección es evaluado periódicamente; y se autoevalúa al menos anualmente. h) Deberes y derechos del Órgano de Dirección se encuentran establecidos en su Documento de Constitución. i) En cuanto a la información; los miembros del Órgano de Dirección tienen derecho a acceder y recibir toda la información relevante; así como obligarse a guardar reserva sobre la información confidencial. j) Los miembros al momento de integrarse acceden a una inducción sobre todos los aspectos relacionados a la Organización. k) Órgano de Dirección cuenta con plan anual de trabajo. l) El Órgano de Dirección cuenta con política de delegación de facultades; y además conforma comités especializados; los cuales son presididos por miembros independientes.
C31: Considerando los estándares antes mencionados, indique la puntuación que usted otorga a la organización en este pilar (marcar con “X” sólo una opción):
C32: 0 | D32: 1 | E32: 2 | F32: 3 | G32: 4
C34: 0 | D34: 1 | E34: 2 | F34: 3 | G34: 4
C35: De los estándares antes enunciados, señale aquellos que a su juicio denotan el mayor o mejor desarrollo (máximo dos): | I35: Funciones y competencias del Órgano de Dirección.
C36: * Primera referencia: | I36: La Organización y funcionamiento del Órgano de Dirección está reglamentado en norma propia albergando aspectos de conformación, convocatorias, y funciones de los distintos miembros, entre otros.
C37: * Segunda referencia: | I37: Existen perfiles de los miembros del Órgano de Dirección, definidos en función de competencia; los que son aplicados en su convocatoria.
C38: De los estándares antes enunciados, señale aquellos que a su juicio aún no han sido alcanzados y requieren mayor mejora (máximo dos): | I38: El Órgano de Dirección está integrado por mayoría de miembros independientes.
C39: * Primera referencia: | I39: El Órgano de Dirección contribuye a identificar, evaluar y proponer candidatos a miembros.
C40: * Segunda referencia: | I40: Existe una política de retribución de los miembros, la cual es transparente.
I41: El Órgano de Dirección es evaluado periódicamente; y se autoevalúa al menos anualmente.
C42: Pilar III: Gestión | I42: Deberes y derechos del Órgano de Dirección se encuentran establecidos en su Documento de Constitución.
C43: El presente pilar alberga usualmente diferentes estándares o buenas prácticas de gobernanza, entre las que se relevan: a) En cuanto al Ejecutivo Principal : i. Sus funciones están definidas en la Normativa Interna , al igual que las de la Alta Gerencia ii. Dispone de debida autonomía, al igual que la Alta Gerencia. iii. Su designación recae en persona distinta del Presidente del Órgano de Dirección b) Con respecto a los Grupos de Interés la Organización: i. Cuenta con política de relacionamiento con éstos. ii. Contempla entre los mismos a las personas excluidas de la provisión de servicios financieros. c) Organización ha establecido políticas de trato responsable al cliente, incluyendo aspectos de prevención de sobreendeudamiento, trato justo, transparencia y solución de reclamos. d) Organización ha establecido en la Normativa Interna política de recursos humanos; incluyendo evaluaciones sobre clima laboral. e) Organización ha implementado plan de sucesión para cargos críticos. f) Respecto de la Alta Gerencia, la Organización: i. Cuenta con política de remuneración con criterios bien definidos. ii. Realiza evaluaciones anuales de desempeño. g) La Organización cuenta con un comité de nombramiento y retribuciones conformado por miembros, con funciones definidas en Normativa Interna. | I43: En cuanto a la información; los miembros del Órgano de Dirección tienen derecho a acceder y recibir toda la información relevante; así como obligarse a guardar reserva sobre la información confidencial.
C44: Considerando los estándares antes mencionados, indique la puntuación que usted otorga a la organización en este pilar (marcar con “X” sólo una opción): | I44: Los miembros al momento de integrarse acceden a una inducción sobre todos los aspectos relacionados a la Organización
C45: 0 | D45: 1 | E45: 2 | F45: 3 | G45: 4 | I45: Órgano de Dirección cuenta con plan anual de trabajo
I46: El Órgano de dirección cuanta con política de delegación de facultades; y además conforma comités especializados; los cuales son presididos por miembros independientes
...

Sheet Encuesta 7
C3: Objetivos de la organización
C4: Los mejores estándares plantean respecto de los objetivos de una organización que: a) Permitan tener viabilidad financiera. b) Consten por escrito en su documento de constitución. c) Permite generar indicadores de gestión y desempeño, que son monitoreados por el Órgano de Dirección.
C5: Considerando los estándares antes mencionados, indique la puntuación que usted otorga a la organización en este pilar (marcar con “X” sólo una opción):
C6: 0 | D6: 1 | E6: 2 | F6: 3 | G6: 4 | I6: X
C8: 0 | D8: 1 | E8: 2 | F8: 3 | G8: 4
C9: De los estándares antes enunciados, señale aquellos que a su juicio denotan el mayor o mejor desarrollo (máximo dos):
C10: * Primera referencia:
C11: * Segunda referencia:
C12: De los estándares antes enunciados, señale aquellos que a su juicio aún no han sido alcanzados y requieren mayor mejora (máximo dos): | I12: Permitan tener viabilidad financiera.
C13: * Primera referencia: | I13: Consten por escrito en su documento de constitución.
C14: * Segunda referencia: | I14: Permite generar indicadores de gestión y desempeño, que son monitoreados por el Órgano de Dirección.
C16: Pilar I: Derechos de propiedad
C17: El presente pilar alberga usualmente diferentes estándares o Buenas Prácticas de Gobernanza, entre las que se relevan: a) Los Socios o Asociados (según corresponda) iguales reciben paridad de trato. b) Existen mecanismos de solución de controversias entre Socios o Asociados. c) Socios o Asociados pueden solicitar y tener acceso a información sobre el desenvolvimiento o desempeño de la Organización. d) Cualquier cambio sustantivo en la propiedad o administración de la Organización son explicados previamente a los Socios o Asociados. e) Se cuenta con política de distribución de utilidades o excedentes. f) Funcionamiento de la Asamblea General, respecto de la Asamblea General de Socios o Asociados: i. Tiene funciones y competencias establecidas en documento de constitución de la Organización. ii. Está reglamentada en norma propia. iii. Cuenta con mecanismos de convocatoria que facilita la participación de Socios o Asociados. iv. Los Socios o Asociados están debidamente registrados. v. Existen mecanismos para que ellos pueden introducir puntos en agenda antes de la Asamblea General. vi. Se facilita su ejercicio de voto mediante diversos mecanismos.
C18: Considerando los estándares antes mencionados, indique la puntuación que usted otorga a la organización en este pilar (marcar con “X” sólo una opción):
C19: 0 | D19: 1 | E19: 2 | F19: 3 | G19: 4
C21: 0 | D21: 1 | E21: 2 | F21: 3 | G21: 4
C22: De los estándares antes enunciados, señale aquellos que a su juicio denotan el mayor o mejor desarrollo (máximo dos):
C23: * Primera referencia: | I23: Los Socios o Asociados (según corresponda) iguales reciben paridad de trato.
C24: * Segunda referencia: | I24: Existen mecanismos de solución de controversias entre Socios o Asociados.
C25: De los estándares antes enunciados, señale aquellos que a su juicio aún no han sido alcanzados y requieren mayor mejora (máximo dos): | I25: Socios o Asociados pueden solicitar y tener acceso a información sobre el desenvolvimiento o desempeño de la Organización.
C26: * Primera referencia: | I26: Cualquier cambio sustantivo en la propiedad o administración de la Organización son explicados previamente a los Socios o Asociados.
